BEGIN:VCALENDAR
VERSION:2.0
PRODID:-//Lone Oak Brewing Co. - ECPv6.15.20//NONSGML v1.0//EN
CALSCALE:GREGORIAN
METHOD:PUBLISH
X-WR-CALNAME:Lone Oak Brewing Co.
X-ORIGINAL-URL:https://loneoakbrewingco.com
X-WR-CALDESC:Events for Lone Oak Brewing Co.
REFRESH-INTERVAL;VALUE=DURATION:PT1H
X-Robots-Tag:noindex
X-PUBLISHED-TTL:PT1H
BEGIN:VTIMEZONE
TZID:UTC
BEGIN:STANDARD
TZOFFSETFROM:+0000
TZOFFSETTO:+0000
TZNAME:UTC
DTSTART:20210101T000000
END:STANDARD
END:VTIMEZONE
BEGIN:VEVENT
DTSTART;TZID=UTC:20220528T120000
DTEND;TZID=UTC:20220528T200000
DTSTAMP:20260423T032812
CREATED:20220507T005112Z
LAST-MODIFIED:20220507T005131Z
UID:1077-1653739200-1653768000@loneoakbrewingco.com
SUMMARY:FOOD TRUCK - WI JAMMIN
DESCRIPTION:
URL:https://loneoakbrewingco.com/event/food-truck-wi-jammin/
LOCATION:Lone Oak Brewery\, 5000 Olney Laytonsville Rd\, Olney\, MD\, 20832\, United States
CATEGORIES:Food Truck
ATTACH;FMTTYPE=image/png:https://loneoakbrewingco.com/wp-content/uploads/2022/05/Screen-Shot-2022-05-03-at-12.36.05-PM.png
END:VEVENT
BEGIN:VEVENT
DTSTART;TZID=UTC:20220528T140000
DTEND;TZID=UTC:20220528T170000
DTSTAMP:20260423T032812
CREATED:20220507T020514Z
LAST-MODIFIED:20220507T020514Z
UID:1107-1653746400-1653757200@loneoakbrewingco.com
SUMMARY:LIVE MUSIC - DAVE CHAPPELL
DESCRIPTION:
URL:https://loneoakbrewingco.com/event/live-music-dave-chappell/
LOCATION:Lone Oak Brewery\, 5000 Olney Laytonsville Rd\, Olney\, MD\, 20832\, United States
CATEGORIES:Live Music
ATTACH;FMTTYPE=image/jpeg:https://loneoakbrewingco.com/wp-content/uploads/2022/04/Dave-Chappelle-e1651874705345.jpg
END:VEVENT
END:VCALENDAR