BEGIN:VCALENDAR
VERSION:2.0
PRODID:-//Lone Oak Brewing Co. - ECPv6.15.20//NONSGML v1.0//EN
CALSCALE:GREGORIAN
METHOD:PUBLISH
X-WR-CALNAME:Lone Oak Brewing Co.
X-ORIGINAL-URL:https://loneoakbrewingco.com
X-WR-CALDESC:Events for Lone Oak Brewing Co.
REFRESH-INTERVAL;VALUE=DURATION:PT1H
X-Robots-Tag:noindex
X-PUBLISHED-TTL:PT1H
BEGIN:VTIMEZONE
TZID:UTC
BEGIN:STANDARD
TZOFFSETFROM:+0000
TZOFFSETTO:+0000
TZNAME:UTC
DTSTART:20210101T000000
END:STANDARD
END:VTIMEZONE
BEGIN:VEVENT
DTSTART;TZID=UTC:20220602T170000
DTEND;TZID=UTC:20220602T210000
DTSTAMP:20260423T032818
CREATED:20220512T005423Z
LAST-MODIFIED:20220512T231424Z
UID:1253-1654189200-1654203600@loneoakbrewingco.com
SUMMARY:FOOD TRUCK - CORNED BEEF KING
DESCRIPTION:
URL:https://loneoakbrewingco.com/event/food-truck-corned-beef-king-5/
LOCATION:Lone Oak Brewery\, 5000 Olney Laytonsville Rd\, Olney\, MD\, 20832\, United States
CATEGORIES:Food Truck
ATTACH;FMTTYPE=image/jpeg:https://loneoakbrewingco.com/wp-content/uploads/2022/03/cornedbeef.jpg
END:VEVENT
BEGIN:VEVENT
DTSTART;TZID=UTC:20220602T190000
DTEND;TZID=UTC:20220602T210000
DTSTAMP:20260423T032818
CREATED:20220512T045854Z
LAST-MODIFIED:20220527T003707Z
UID:1284-1654196400-1654203600@loneoakbrewingco.com
SUMMARY:LAUGH AT LONE OAK COMEDY SHOW
DESCRIPTION:with national touring comedians DYLAN VATTELANA and JACKIE FLYNN \n\n\n\n\nJackie Flynn is an actor and comedian you may recognize from “The King of Queens\,” or “Veep” and is the winner of the prestigious San Francisco Comedy Competition. \nDylan Vattelana is a stand-up comedian\, actor\, sketch writer\, performing at some of New York City’s most famous comedy clubs. A finalist at the World Series of Comedy\, Dylan has performed with some of the biggest names in comedy. \n\nPurchase tickets here \nUse coupon code “5 off” for discount on tickets when you purchase a ticket to our Farmer’s and Friends Festival June 11th!
URL:https://loneoakbrewingco.com/event/laugh-at-lone-oak-comedy-show/
LOCATION:Lone Oak Brewery\, 5000 Olney Laytonsville Rd\, Olney\, MD\, 20832\, United States
CATEGORIES:Ticketed Event
ATTACH;FMTTYPE=image/png:https://loneoakbrewingco.com/wp-content/uploads/2022/05/Screen-Shot-2022-05-11-at-8.58.28-PM.png
END:VEVENT
END:VCALENDAR