BEGIN:VCALENDAR
VERSION:2.0
PRODID:-//Lone Oak Brewing Co. - ECPv6.15.20//NONSGML v1.0//EN
CALSCALE:GREGORIAN
METHOD:PUBLISH
X-ORIGINAL-URL:https://loneoakbrewingco.com
X-WR-CALDESC:Events for Lone Oak Brewing Co.
REFRESH-INTERVAL;VALUE=DURATION:PT1H
X-Robots-Tag:noindex
X-PUBLISHED-TTL:PT1H
BEGIN:VTIMEZONE
TZID:UTC
BEGIN:STANDARD
TZOFFSETFROM:+0000
TZOFFSETTO:+0000
TZNAME:UTC
DTSTART:20210101T000000
END:STANDARD
END:VTIMEZONE
BEGIN:VEVENT
DTSTART;TZID=UTC:20220604T120000
DTEND;TZID=UTC:20220604T200000
DTSTAMP:20260423T032808
CREATED:20220507T235621Z
LAST-MODIFIED:20220507T235621Z
UID:1129-1654344000-1654372800@loneoakbrewingco.com
SUMMARY:FOOD TRUCK - BUN'D UP
DESCRIPTION:
URL:https://loneoakbrewingco.com/event/food-truck-bund-up-2/
LOCATION:Lone Oak Brewery\, 5000 Olney Laytonsville Rd\, Olney\, MD\, 20832\, United States
CATEGORIES:Food Truck
ATTACH;FMTTYPE=image/jpeg:https://loneoakbrewingco.com/wp-content/uploads/2022/04/bundup-Edit-rotated-e1627678270867.jpg
END:VEVENT
BEGIN:VEVENT
DTSTART;TZID=UTC:20220604T120000
DTEND;TZID=UTC:20220604T200000
DTSTAMP:20260423T032808
CREATED:20220507T235735Z
LAST-MODIFIED:20220508T033326Z
UID:1131-1654344000-1654372800@loneoakbrewingco.com
SUMMARY:FOOD TRUCK - GRUBBING HARD BBQ
DESCRIPTION:
URL:https://loneoakbrewingco.com/event/food-truck-grubbing-hard-4/
LOCATION:Lone Oak Brewery\, 5000 Olney Laytonsville Rd\, Olney\, MD\, 20832\, United States
CATEGORIES:Food Truck
ATTACH;FMTTYPE=image/png:https://loneoakbrewingco.com/wp-content/uploads/2022/05/Screen-Shot-2022-05-06-at-4.05.11-PM-1-e1651867741708.png
END:VEVENT
BEGIN:VEVENT
DTSTART;TZID=UTC:20220604T140000
DTEND;TZID=UTC:20220604T170000
DTSTAMP:20260423T032808
CREATED:20220512T030601Z
LAST-MODIFIED:20220512T030601Z
UID:1260-1654351200-1654362000@loneoakbrewingco.com
SUMMARY:LIVE MUSIC - JOSEPH MONASTERIAL
DESCRIPTION:
URL:https://loneoakbrewingco.com/event/live-music-joseph-monasterial-2/
LOCATION:Lone Oak Brewery\, 5000 Olney Laytonsville Rd\, Olney\, MD\, 20832\, United States
CATEGORIES:Live Music
ATTACH;FMTTYPE=image/jpeg:https://loneoakbrewingco.com/wp-content/uploads/2022/04/joseph-music-e1628112971737.jpg
END:VEVENT
END:VCALENDAR