BEGIN:VCALENDAR
VERSION:2.0
PRODID:-//Lone Oak Brewing Co. - ECPv6.15.20//NONSGML v1.0//EN
CALSCALE:GREGORIAN
METHOD:PUBLISH
X-ORIGINAL-URL:https://loneoakbrewingco.com
X-WR-CALDESC:Events for Lone Oak Brewing Co.
REFRESH-INTERVAL;VALUE=DURATION:PT1H
X-Robots-Tag:noindex
X-PUBLISHED-TTL:PT1H
BEGIN:VTIMEZONE
TZID:UTC
BEGIN:STANDARD
TZOFFSETFROM:+0000
TZOFFSETTO:+0000
TZNAME:UTC
DTSTART:20210101T000000
END:STANDARD
END:VTIMEZONE
BEGIN:VEVENT
DTSTART;TZID=UTC:20220619T120000
DTEND;TZID=UTC:20220619T190000
DTSTAMP:20260423T032803
CREATED:20220508T003152Z
LAST-MODIFIED:20220508T003152Z
UID:1151-1655640000-1655665200@loneoakbrewingco.com
SUMMARY:FOOD TRUCK - BOOMBAS KITCHEN
DESCRIPTION:
URL:https://loneoakbrewingco.com/event/food-truck-boombas-kitchen-6/
LOCATION:Lone Oak Brewery\, 5000 Olney Laytonsville Rd\, Olney\, MD\, 20832\, United States
CATEGORIES:Food Truck
ATTACH;FMTTYPE=image/jpeg:https://loneoakbrewingco.com/wp-content/uploads/2022/03/boombas.jpg
END:VEVENT
BEGIN:VEVENT
DTSTART;TZID=UTC:20220619T140000
DTEND;TZID=UTC:20220619T170000
DTSTAMP:20260423T032803
CREATED:20220512T222605Z
LAST-MODIFIED:20220512T222605Z
UID:1292-1655647200-1655658000@loneoakbrewingco.com
SUMMARY:LIVE MUSIC - JOSEPH MONASTERIAL
DESCRIPTION:
URL:https://loneoakbrewingco.com/event/live-music-joseph-monasterial-3/
LOCATION:Lone Oak Brewery\, 5000 Olney Laytonsville Rd\, Olney\, MD\, 20832\, United States
CATEGORIES:Live Music
ATTACH;FMTTYPE=image/jpeg:https://loneoakbrewingco.com/wp-content/uploads/2022/04/joseph-music-e1628112971737.jpg
END:VEVENT
END:VCALENDAR