BEGIN:VCALENDAR
VERSION:2.0
PRODID:-//Lone Oak Brewing Co. - ECPv6.15.20//NONSGML v1.0//EN
CALSCALE:GREGORIAN
METHOD:PUBLISH
X-ORIGINAL-URL:https://loneoakbrewingco.com
X-WR-CALDESC:Events for Lone Oak Brewing Co.
REFRESH-INTERVAL;VALUE=DURATION:PT1H
X-Robots-Tag:noindex
X-PUBLISHED-TTL:PT1H
BEGIN:VTIMEZONE
TZID:UTC
BEGIN:STANDARD
TZOFFSETFROM:+0000
TZOFFSETTO:+0000
TZNAME:UTC
DTSTART:20210101T000000
END:STANDARD
END:VTIMEZONE
BEGIN:VEVENT
DTSTART;VALUE=DATE:20220724
DTEND;VALUE=DATE:20220725
DTSTAMP:20260423T001809
CREATED:20220713T200858Z
LAST-MODIFIED:20220713T200858Z
UID:1780-1658620800-1658707199@loneoakbrewingco.com
SUMMARY:2022 Montgomery County Annual Farm Tour & Harvest Sale
DESCRIPTION:will occur July 23rd and 24th – Check out the BROCHURE for details. Stop by Lone Oak Farm Brewing Co. to support a local agricultural business and enjoy great brews and historic views. Remember to check-in using the new Adventure Planner App Farm Tour Passport to be entered into a drawing for a prize pack.
URL:https://loneoakbrewingco.com/event/2022-montgomery-county-annual-farm-tour-harvest-sale-2/
LOCATION:Lone Oak Brewery\, 5000 Olney Laytonsville Rd\, Olney\, MD\, 20832\, United States
CATEGORIES:Farm Tour
ATTACH;FMTTYPE=image/png:https://loneoakbrewingco.com/wp-content/uploads/2022/07/Screen-Shot-2022-07-13-at-11.54.01-AM.png
END:VEVENT
BEGIN:VEVENT
DTSTART;TZID=UTC:20220724T120000
DTEND;TZID=UTC:20220724T190000
DTSTAMP:20260423T001809
CREATED:20220508T033103Z
LAST-MODIFIED:20220508T033103Z
UID:1195-1658664000-1658689200@loneoakbrewingco.com
SUMMARY:FOOD TRUCK - BUN'D UP
DESCRIPTION:
URL:https://loneoakbrewingco.com/event/food-truck-bund-up-4/
LOCATION:Lone Oak Brewery\, 5000 Olney Laytonsville Rd\, Olney\, MD\, 20832\, United States
CATEGORIES:Food Truck
ATTACH;FMTTYPE=image/jpeg:https://loneoakbrewingco.com/wp-content/uploads/2022/04/bundup-Edit-rotated-e1627678270867.jpg
END:VEVENT
BEGIN:VEVENT
DTSTART;TZID=UTC:20220724T140000
DTEND;TZID=UTC:20220724T170000
DTSTAMP:20260423T001809
CREATED:20220513T011839Z
LAST-MODIFIED:20220513T011839Z
UID:1320-1658671200-1658682000@loneoakbrewingco.com
SUMMARY:LIVE MUSIC - BURT THE DIRT
DESCRIPTION:
URL:https://loneoakbrewingco.com/event/live-music-burt-the-dirt-2/
LOCATION:Lone Oak Brewery\, 5000 Olney Laytonsville Rd\, Olney\, MD\, 20832\, United States
CATEGORIES:Live Music
ATTACH;FMTTYPE=image/png:https://loneoakbrewingco.com/wp-content/uploads/2022/05/BURT-THE-DIRT.png
END:VEVENT
END:VCALENDAR