BEGIN:VCALENDAR
VERSION:2.0
PRODID:-//Lone Oak Brewing Co. - ECPv6.15.20//NONSGML v1.0//EN
CALSCALE:GREGORIAN
METHOD:PUBLISH
X-ORIGINAL-URL:https://loneoakbrewingco.com
X-WR-CALDESC:Events for Lone Oak Brewing Co.
REFRESH-INTERVAL;VALUE=DURATION:PT1H
X-Robots-Tag:noindex
X-PUBLISHED-TTL:PT1H
BEGIN:VTIMEZONE
TZID:UTC
BEGIN:STANDARD
TZOFFSETFROM:+0000
TZOFFSETTO:+0000
TZNAME:UTC
DTSTART:20210101T000000
END:STANDARD
END:VTIMEZONE
BEGIN:VEVENT
DTSTART;TZID=UTC:20220911T110000
DTEND;TZID=UTC:20220911T200000
DTSTAMP:20260422T210916
CREATED:20220818T045357Z
LAST-MODIFIED:20220818T053946Z
UID:1860-1662894000-1662926400@loneoakbrewingco.com
SUMMARY:BACK TO SCHOOL FOOD TRUCK FESTIVAL
DESCRIPTION:BACK TO SCHOOL FOOD TRUCK FESTIVAL at Lone Oak Farm Brewing Company! \nCome out Sunday\, September 11\, 2022 from 11-8p to enjoy these AMAZING food trucks: Paella and Tapas\, Petit Afrik\, Catalyst Hot Dogs\, Grubbing Hard BBQ\, Kofemi Grub ‘n Go\, Corned Beef King\, Pho Wheels and Pacha Mama’s! Plus\, Lone Oak’s kitchen will be open! \nVote for your favorite TRUCK O’ THE DAY! \nDEALS \n\nCome dressed in your school gear for 10% off your check! Just tell your server! Don’t forget to mention your school name.\nFamily Pizza Pack Deal – 2 pints and a plain pizza for $25\nMake sure to grab a bingo card – buy 5 items for your family\, win a prize!\n\nENTERTAINMENT \n\nMusic! Dancing!\nFace Painter/Balloon artist!\n‘KOA Sports’ on-site for field games!\n\nA FEW THINGS TO KNOW \n\nCoolers are not permitted at Lone Oak Farm\, nor is any outside restaurant food. Food from home is welcome\, but we also have a great Snack Shack – and 8 food trucks to enjoy!\nGroups are limited to 2 picnic tables in the field\n\nCome represent your school!! Enjoy delicious food!! See you there!
URL:https://loneoakbrewingco.com/event/back-to-school-food-truck-festival/
LOCATION:Lone Oak Brewery\, 5000 Olney Laytonsville Rd\, Olney\, MD\, 20832\, United States
CATEGORIES:Festival
ATTACH;FMTTYPE=image/png:https://loneoakbrewingco.com/wp-content/uploads/2022/08/Screen-Shot-2022-08-17-at-8.52.15-PM.png
END:VEVENT
BEGIN:VEVENT
DTSTART;TZID=UTC:20220911T120000
DTEND;TZID=UTC:20220911T190000
DTSTAMP:20260422T210916
CREATED:20220514T051510Z
LAST-MODIFIED:20220514T051510Z
UID:1424-1662897600-1662922800@loneoakbrewingco.com
SUMMARY:FOOD TRUCK FESTIVAL - PAELLA AND TAPAS
DESCRIPTION:
URL:https://loneoakbrewingco.com/event/food-truck-festival-paella-and-tapas/
LOCATION:Lone Oak Brewery\, 5000 Olney Laytonsville Rd\, Olney\, MD\, 20832\, United States
CATEGORIES:Food Truck
ATTACH;FMTTYPE=image/jpeg:https://loneoakbrewingco.com/wp-content/uploads/2022/04/Paella-and-Tapas.jpg
END:VEVENT
BEGIN:VEVENT
DTSTART;TZID=UTC:20220911T120000
DTEND;TZID=UTC:20220911T190000
DTSTAMP:20260422T210916
CREATED:20220514T051600Z
LAST-MODIFIED:20220514T051600Z
UID:1426-1662897600-1662922800@loneoakbrewingco.com
SUMMARY:FOOD TRUCK FESTIVAL - PETIT AFRIK
DESCRIPTION:
URL:https://loneoakbrewingco.com/event/food-truck-festival-petit-afrik/
LOCATION:Lone Oak Brewery\, 5000 Olney Laytonsville Rd\, Olney\, MD\, 20832\, United States
CATEGORIES:Food Truck
ATTACH;FMTTYPE=image/jpeg:https://loneoakbrewingco.com/wp-content/uploads/2022/03/background-oak.jpg
END:VEVENT
BEGIN:VEVENT
DTSTART;TZID=UTC:20220911T120000
DTEND;TZID=UTC:20220911T190000
DTSTAMP:20260422T210916
CREATED:20220514T051658Z
LAST-MODIFIED:20220514T051658Z
UID:1428-1662897600-1662922800@loneoakbrewingco.com
SUMMARY:FOOD TRUCK FESTIVAL - CATALYST HOT DOGS
DESCRIPTION:
URL:https://loneoakbrewingco.com/event/food-truck-festival-catalyst-hot-dogs/
LOCATION:Lone Oak Brewery\, 5000 Olney Laytonsville Rd\, Olney\, MD\, 20832\, United States
CATEGORIES:Food Truck
ATTACH;FMTTYPE=image/jpeg:https://loneoakbrewingco.com/wp-content/uploads/2022/03/catalysthotdogs.jpg
END:VEVENT
BEGIN:VEVENT
DTSTART;TZID=UTC:20220911T120000
DTEND;TZID=UTC:20220911T190000
DTSTAMP:20260422T210916
CREATED:20220514T051741Z
LAST-MODIFIED:20220514T051741Z
UID:1430-1662897600-1662922800@loneoakbrewingco.com
SUMMARY:FOOD TRUCK FESTIVAL - GRUBBING HARD BBQ
DESCRIPTION:
URL:https://loneoakbrewingco.com/event/food-truck-festival-grubbing-hard-bbq/
LOCATION:Lone Oak Brewery\, 5000 Olney Laytonsville Rd\, Olney\, MD\, 20832\, United States
CATEGORIES:Food Truck
ATTACH;FMTTYPE=image/jpeg:https://loneoakbrewingco.com/wp-content/uploads/2022/03/grubbin-hard.jpeg
END:VEVENT
BEGIN:VEVENT
DTSTART;TZID=UTC:20220911T120000
DTEND;TZID=UTC:20220911T190000
DTSTAMP:20260422T210917
CREATED:20220514T051829Z
LAST-MODIFIED:20220805T230642Z
UID:1432-1662897600-1662922800@loneoakbrewingco.com
SUMMARY:FOOD TRUCK FESTIVAL - KOFEMI GRUB N GO
DESCRIPTION:
URL:https://loneoakbrewingco.com/event/food-truck-festival-kofemi-grub-n-go/
LOCATION:Lone Oak Brewery\, 5000 Olney Laytonsville Rd\, Olney\, MD\, 20832\, United States
CATEGORIES:Food Truck
ATTACH;FMTTYPE=image/png:https://loneoakbrewingco.com/wp-content/uploads/2022/05/Screen-Shot-2022-08-04-at-9.58.24-PM.png
END:VEVENT
BEGIN:VEVENT
DTSTART;TZID=UTC:20220911T120000
DTEND;TZID=UTC:20220911T190000
DTSTAMP:20260422T210917
CREATED:20220514T051912Z
LAST-MODIFIED:20220514T051912Z
UID:1434-1662897600-1662922800@loneoakbrewingco.com
SUMMARY:FOOD TRUCK FESTIVAL - CORNED BEEF KING
DESCRIPTION:
URL:https://loneoakbrewingco.com/event/food-truck-festival-corned-beef-king/
LOCATION:Lone Oak Brewery\, 5000 Olney Laytonsville Rd\, Olney\, MD\, 20832\, United States
CATEGORIES:Food Truck
ATTACH;FMTTYPE=image/jpeg:https://loneoakbrewingco.com/wp-content/uploads/2022/03/cornedbeef.jpg
END:VEVENT
BEGIN:VEVENT
DTSTART;TZID=UTC:20220911T120000
DTEND;TZID=UTC:20220911T190000
DTSTAMP:20260422T210917
CREATED:20220514T051958Z
LAST-MODIFIED:20220514T051958Z
UID:1436-1662897600-1662922800@loneoakbrewingco.com
SUMMARY:FOOD TRUCK FESTIVAL - PHO WHEELS
DESCRIPTION:
URL:https://loneoakbrewingco.com/event/food-truck-festival-pho-wheels/
LOCATION:Lone Oak Brewery\, 5000 Olney Laytonsville Rd\, Olney\, MD\, 20832\, United States
CATEGORIES:Food Truck
ATTACH;FMTTYPE=image/jpeg:https://loneoakbrewingco.com/wp-content/uploads/2022/04/phowheels-e1631744329223.jpg
END:VEVENT
BEGIN:VEVENT
DTSTART;TZID=UTC:20220911T120000
DTEND;TZID=UTC:20220911T190000
DTSTAMP:20260422T210917
CREATED:20220514T052052Z
LAST-MODIFIED:20220514T052052Z
UID:1438-1662897600-1662922800@loneoakbrewingco.com
SUMMARY:FOOD TRUCK FESTIVAL - PACHA MAMA'S JUICE
DESCRIPTION:
URL:https://loneoakbrewingco.com/event/food-truck-festival-pacha-mamas-juice/
LOCATION:Lone Oak Brewery\, 5000 Olney Laytonsville Rd\, Olney\, MD\, 20832\, United States
CATEGORIES:Food Truck
ATTACH;FMTTYPE=image/png:https://loneoakbrewingco.com/wp-content/uploads/2022/05/Screen-Shot-2022-05-03-at-12.39.20-PM-1-e1652314307880.png
END:VEVENT
END:VCALENDAR