BEGIN:VCALENDAR
VERSION:2.0
PRODID:-//Lone Oak Brewing Co. - ECPv6.15.20//NONSGML v1.0//EN
CALSCALE:GREGORIAN
METHOD:PUBLISH
X-ORIGINAL-URL:https://loneoakbrewingco.com
X-WR-CALDESC:Events for Lone Oak Brewing Co.
REFRESH-INTERVAL;VALUE=DURATION:PT1H
X-Robots-Tag:noindex
X-PUBLISHED-TTL:PT1H
BEGIN:VTIMEZONE
TZID:UTC
BEGIN:STANDARD
TZOFFSETFROM:+0000
TZOFFSETTO:+0000
TZNAME:UTC
DTSTART:20210101T000000
END:STANDARD
END:VTIMEZONE
BEGIN:VEVENT
DTSTART;TZID=UTC:20220916T130000
DTEND;TZID=UTC:20220916T200000
DTSTAMP:20260422T210918
CREATED:20220529T004112Z
LAST-MODIFIED:20220529T004112Z
UID:1590-1663333200-1663358400@loneoakbrewingco.com
SUMMARY:FOOD TRUCK - DINER ON THE GO
DESCRIPTION:
URL:https://loneoakbrewingco.com/event/food-truck-diner-on-the-go-3/
LOCATION:Lone Oak Brewery\, 5000 Olney Laytonsville Rd\, Olney\, MD\, 20832\, United States
CATEGORIES:Food Truck
ATTACH;FMTTYPE=image/png:https://loneoakbrewingco.com/wp-content/uploads/2022/05/DINER-ON-THE-GO.png
END:VEVENT
BEGIN:VEVENT
DTSTART;TZID=UTC:20220916T160000
DTEND;TZID=UTC:20220916T190000
DTSTAMP:20260422T210918
CREATED:20220527T032437Z
LAST-MODIFIED:20220527T032437Z
UID:1462-1663344000-1663354800@loneoakbrewingco.com
SUMMARY:LIVE MUSIC - MATT HARPER
DESCRIPTION:
URL:https://loneoakbrewingco.com/event/live-music-matt-harper-4/
LOCATION:Lone Oak Brewery\, 5000 Olney Laytonsville Rd\, Olney\, MD\, 20832\, United States
CATEGORIES:Live Music
ATTACH;FMTTYPE=image/png:https://loneoakbrewingco.com/wp-content/uploads/2022/05/Screen-Shot-2022-05-11-at-12.54.06-PM-e1652288270908.png
END:VEVENT
END:VCALENDAR