BEGIN:VCALENDAR
VERSION:2.0
PRODID:-//Lone Oak Brewing Co. - ECPv6.15.20//NONSGML v1.0//EN
CALSCALE:GREGORIAN
METHOD:PUBLISH
X-WR-CALNAME:Lone Oak Brewing Co.
X-ORIGINAL-URL:https://loneoakbrewingco.com
X-WR-CALDESC:Events for Lone Oak Brewing Co.
REFRESH-INTERVAL;VALUE=DURATION:PT1H
X-Robots-Tag:noindex
X-PUBLISHED-TTL:PT1H
BEGIN:VTIMEZONE
TZID:UTC
BEGIN:STANDARD
TZOFFSETFROM:+0000
TZOFFSETTO:+0000
TZNAME:UTC
DTSTART:20210101T000000
END:STANDARD
END:VTIMEZONE
BEGIN:VEVENT
DTSTART;TZID=UTC:20220917T120000
DTEND;TZID=UTC:20220917T200000
DTSTAMP:20260422T210924
CREATED:20220529T004353Z
LAST-MODIFIED:20220529T004353Z
UID:1592-1663416000-1663444800@loneoakbrewingco.com
SUMMARY:FOOD TRUCK - FLIPSIDE GASTRO
DESCRIPTION:
URL:https://loneoakbrewingco.com/event/food-truck-flipside-gastro-11/
LOCATION:Lone Oak Brewery\, 5000 Olney Laytonsville Rd\, Olney\, MD\, 20832\, United States
CATEGORIES:Food Truck
ATTACH;FMTTYPE=image/jpeg:https://loneoakbrewingco.com/wp-content/uploads/2022/03/flipside-gastro-truck.jpeg
END:VEVENT
BEGIN:VEVENT
DTSTART;TZID=UTC:20220917T140000
DTEND;TZID=UTC:20220917T170000
DTSTAMP:20260422T210924
CREATED:20220904T032550Z
LAST-MODIFIED:20220904T032550Z
UID:1912-1663423200-1663434000@loneoakbrewingco.com
SUMMARY:LIVE MUSIC - TUCK AND FRIENDS
DESCRIPTION:
URL:https://loneoakbrewingco.com/event/live-music-tuck-and-friends/
LOCATION:Lone Oak Brewery\, 5000 Olney Laytonsville Rd\, Olney\, MD\, 20832\, United States
CATEGORIES:Live Music
ATTACH;FMTTYPE=image/jpeg:https://loneoakbrewingco.com/wp-content/uploads/2022/03/background-oak.jpg
END:VEVENT
BEGIN:VEVENT
DTSTART;TZID=UTC:20220917T150000
DTEND;TZID=UTC:20220917T190000
DTSTAMP:20260422T210924
CREATED:20220901T235128Z
LAST-MODIFIED:20220901T235326Z
UID:1901-1663426800-1663441200@loneoakbrewingco.com
SUMMARY:OFFSITE EVENT - BEHAN STRONG CORNHOLE TOURNAMENT AT OBGC
DESCRIPTION:Help Pat Behan Fight ALS. \nDATE: SEPTEMBER 17\, 2022 \nTIME: DOORS OPEN AT 3PM\, BAGS FLY AT 4PM \nCOST: $100 PER TEAM \nPRIZES: FIRST $600\, SECOND $250\, THIRD $150 \nLOCATION: OBGC COMMUNITY PARK\, 4501 OLNEY-LAYTONSVILLE RD. OLNEY\, MD 20832 \nLone Oak Farm Brewing Co. and Olney Winery will be pouring for the event!! \nTo find out more information about Pat and to sign up go to THIS WEBSITE or go straight to the REGISTRATION PAGE HERE: 
URL:https://loneoakbrewingco.com/event/offsite-event-behan-strong-cornhole-tournament-at-obgc/
LOCATION:OBGC COMMUNITY PARK\,\, 4501 OLNEY-LAYTONSVILLE RD\, OLNEY\, 20832
CATEGORIES:Offsite Event
ATTACH;FMTTYPE=image/png:https://loneoakbrewingco.com/wp-content/uploads/2022/09/Screen-Shot-2022-09-01-at-3.53.13-PM.png
END:VEVENT
END:VCALENDAR