BEGIN:VCALENDAR
VERSION:2.0
PRODID:-//Lone Oak Brewing Co. - ECPv6.15.20//NONSGML v1.0//EN
CALSCALE:GREGORIAN
METHOD:PUBLISH
X-WR-CALNAME:Lone Oak Brewing Co.
X-ORIGINAL-URL:https://loneoakbrewingco.com
X-WR-CALDESC:Events for Lone Oak Brewing Co.
REFRESH-INTERVAL;VALUE=DURATION:PT1H
X-Robots-Tag:noindex
X-PUBLISHED-TTL:PT1H
BEGIN:VTIMEZONE
TZID:UTC
BEGIN:STANDARD
TZOFFSETFROM:+0000
TZOFFSETTO:+0000
TZNAME:UTC
DTSTART:20210101T000000
END:STANDARD
END:VTIMEZONE
BEGIN:VEVENT
DTSTART;TZID=UTC:20220923T130000
DTEND;TZID=UTC:20220923T200000
DTSTAMP:20260422T210922
CREATED:20220529T004705Z
LAST-MODIFIED:20220529T004705Z
UID:1596-1663938000-1663963200@loneoakbrewingco.com
SUMMARY:FOOD TRUCK - PHO WHEELS
DESCRIPTION:
URL:https://loneoakbrewingco.com/event/food-truck-pho-wheels-6/
LOCATION:Lone Oak Brewery\, 5000 Olney Laytonsville Rd\, Olney\, MD\, 20832\, United States
CATEGORIES:Live Music
ATTACH;FMTTYPE=image/jpeg:https://loneoakbrewingco.com/wp-content/uploads/2022/04/phowheels-e1631744329223.jpg
END:VEVENT
BEGIN:VEVENT
DTSTART;TZID=UTC:20220923T160000
DTEND;TZID=UTC:20220923T210000
DTSTAMP:20260422T210922
CREATED:20220811T213643Z
LAST-MODIFIED:20220901T220659Z
UID:1846-1663948800-1663966800@loneoakbrewingco.com
SUMMARY:BILLY\, BUFFETT & BEERS
DESCRIPTION:Encore! Encore! After the massive success of our first Billy\, Buffett and Beers concert we’re bringing it back! Only bands “One Particular Harbour” and “Hudson River Line” can make saying ‘sayonara’ to summer a little less painful. \n  \nBUY TICKETS HERE: https://loneoakfarm.oznr.com/offers/2137053
URL:https://loneoakbrewingco.com/event/billy-buffett-beers-2/
LOCATION:Lone Oak Brewery\, 5000 Olney Laytonsville Rd\, Olney\, MD\, 20832\, United States
CATEGORIES:Festival,Live Music
ATTACH;FMTTYPE=image/png:https://loneoakbrewingco.com/wp-content/uploads/2022/08/Screen-Shot-2022-09-01-at-2.03.05-PM.png
END:VEVENT
END:VCALENDAR