BEGIN:VCALENDAR
VERSION:2.0
PRODID:-//Lone Oak Brewing Co. - ECPv6.15.20//NONSGML v1.0//EN
CALSCALE:GREGORIAN
METHOD:PUBLISH
X-ORIGINAL-URL:https://loneoakbrewingco.com
X-WR-CALDESC:Events for Lone Oak Brewing Co.
REFRESH-INTERVAL;VALUE=DURATION:PT1H
X-Robots-Tag:noindex
X-PUBLISHED-TTL:PT1H
BEGIN:VTIMEZONE
TZID:UTC
BEGIN:STANDARD
TZOFFSETFROM:+0000
TZOFFSETTO:+0000
TZNAME:UTC
DTSTART:20210101T000000
END:STANDARD
END:VTIMEZONE
BEGIN:VEVENT
DTSTART;TZID=UTC:20221016T120000
DTEND;TZID=UTC:20221016T190000
DTSTAMP:20260422T191502
CREATED:20220529T010952Z
LAST-MODIFIED:20220529T010952Z
UID:1619-1665921600-1665946800@loneoakbrewingco.com
SUMMARY:FOOD TRUCK - PETIT AFRIK
DESCRIPTION:
URL:https://loneoakbrewingco.com/event/food-truck-petit-afrik/
LOCATION:Lone Oak Brewery\, 5000 Olney Laytonsville Rd\, Olney\, MD\, 20832\, United States
CATEGORIES:Food Truck
ATTACH;FMTTYPE=image/jpeg:https://loneoakbrewingco.com/wp-content/uploads/2022/03/background-oak.jpg
END:VEVENT
BEGIN:VEVENT
DTSTART;TZID=UTC:20221016T140000
DTEND;TZID=UTC:20221016T170000
DTSTAMP:20260422T191502
CREATED:20220528T232538Z
LAST-MODIFIED:20220528T232538Z
UID:1542-1665928800-1665939600@loneoakbrewingco.com
SUMMARY:LIVE MUSIC - PARK VALLEY
DESCRIPTION:
URL:https://loneoakbrewingco.com/event/live-music-park-valley/
LOCATION:Lone Oak Brewery\, 5000 Olney Laytonsville Rd\, Olney\, MD\, 20832\, United States
CATEGORIES:Live Music
ATTACH;FMTTYPE=image/png:https://loneoakbrewingco.com/wp-content/uploads/2022/05/Screen-Shot-2022-05-13-at-9.02.02-PM.png
END:VEVENT
END:VCALENDAR