BEGIN:VCALENDAR
VERSION:2.0
PRODID:-//Lone Oak Brewing Co. - ECPv6.15.20//NONSGML v1.0//EN
CALSCALE:GREGORIAN
METHOD:PUBLISH
X-ORIGINAL-URL:https://loneoakbrewingco.com
X-WR-CALDESC:Events for Lone Oak Brewing Co.
REFRESH-INTERVAL;VALUE=DURATION:PT1H
X-Robots-Tag:noindex
X-PUBLISHED-TTL:PT1H
BEGIN:VTIMEZONE
TZID:UTC
BEGIN:STANDARD
TZOFFSETFROM:+0000
TZOFFSETTO:+0000
TZNAME:UTC
DTSTART:20210101T000000
END:STANDARD
END:VTIMEZONE
BEGIN:VEVENT
DTSTART;VALUE=DATE:20221201
DTEND;VALUE=DATE:20221219
DTSTAMP:20260422T173958
CREATED:20221201T034808Z
LAST-MODIFIED:20221201T034808Z
UID:2102-1669852800-1671407999@loneoakbrewingco.com
SUMMARY:LONE OAK FARM TOY DRIVE
DESCRIPTION:Benefitting MasonStrong Village and Children’s Hospital
URL:https://loneoakbrewingco.com/event/lone-oak-farm-toy-drive/
LOCATION:Lone Oak Brewery\, 5000 Olney Laytonsville Rd\, Olney\, MD\, 20832\, United States
CATEGORIES:Fundraiser
ATTACH;FMTTYPE=image/png:https://loneoakbrewingco.com/wp-content/uploads/2022/11/Screen-Shot-2022-11-30-at-5.47.44-PM.png
END:VEVENT
BEGIN:VEVENT
DTSTART;TZID=UTC:20221215T180000
DTEND;TZID=UTC:20221215T200000
DTSTAMP:20260422T173958
CREATED:20221201T030455Z
LAST-MODIFIED:20221201T030455Z
UID:2091-1671127200-1671134400@loneoakbrewingco.com
SUMMARY:TRIVIA NIGHT WITH POUR HOUSE TRIVIA!
DESCRIPTION:
URL:https://loneoakbrewingco.com/event/trivia-night-with-pour-house-trivia-3/
LOCATION:Lone Oak Brewery\, 5000 Olney Laytonsville Rd\, Olney\, MD\, 20832\, United States
CATEGORIES:Trivia
ATTACH;FMTTYPE=image/jpeg:https://loneoakbrewingco.com/wp-content/uploads/2022/03/pourhousetrivia.jpg
END:VEVENT
END:VCALENDAR