BEGIN:VCALENDAR
VERSION:2.0
PRODID:-//Lone Oak Brewing Co. - ECPv6.15.20//NONSGML v1.0//EN
CALSCALE:GREGORIAN
METHOD:PUBLISH
X-WR-CALNAME:Lone Oak Brewing Co.
X-ORIGINAL-URL:https://loneoakbrewingco.com
X-WR-CALDESC:Events for Lone Oak Brewing Co.
REFRESH-INTERVAL;VALUE=DURATION:PT1H
X-Robots-Tag:noindex
X-PUBLISHED-TTL:PT1H
BEGIN:VTIMEZONE
TZID:UTC
BEGIN:STANDARD
TZOFFSETFROM:+0000
TZOFFSETTO:+0000
TZNAME:UTC
DTSTART:20220101T000000
END:STANDARD
END:VTIMEZONE
BEGIN:VEVENT
DTSTART;TZID=UTC:20230318T120000
DTEND;TZID=UTC:20230318T200000
DTSTAMP:20260422T101934
CREATED:20221110T050916Z
LAST-MODIFIED:20221110T050916Z
UID:2060-1679140800-1679169600@loneoakbrewingco.com
SUMMARY:FOOD TRUCK - PHOWHEELS
DESCRIPTION:
URL:https://loneoakbrewingco.com/event/food-truck-phowheels-2/
LOCATION:Lone Oak Brewery\, 5000 Olney Laytonsville Rd\, Olney\, MD\, 20832\, United States
CATEGORIES:Food Truck
ATTACH;FMTTYPE=image/jpeg:https://loneoakbrewingco.com/wp-content/uploads/2022/04/phowheels-e1631744329223.jpg
END:VEVENT
BEGIN:VEVENT
DTSTART;TZID=UTC:20230318T150000
DTEND;TZID=UTC:20230318T170000
DTSTAMP:20260422T101934
CREATED:20230206T015125Z
LAST-MODIFIED:20230209T050724Z
UID:2780-1679151600-1679158800@loneoakbrewingco.com
SUMMARY:LIVE MUSIC - BAGPIPER EXTRAORDINAIRE OLIVIA CORCORAN
DESCRIPTION:Olivia Corcoran is a Maryland native\, born and raised minutes down the road from Lone Oak Farm. She began playing the bagpipes at the age of 8\, when she was inspired by young pipers at a the Anne Arundel Scottish Festival. In 2009\, she joined the Rockville High School Pipe Band\, and became Pipe Major of the band in 2015. Olivia is now an instructor for the band\, which has since evolved into the Maryland Youth Pipe Band.\n\nOlivia currently plays and competes with the MacMillan Pipe Band\, one of the top competitive pipe bands in North America\, based in the DC area. With her band\, she has traveled around the US\, to Canada\, and to Scotland to perform and compete. This August\, she and her band are traveling to Glasgow to compete in the World Piping Championships. She has played a variety of events\, from car shows and retirement parties\, to boy scout celebrations and weddings. She is always looking for opportunities to perform\, and is grateful to Lone Oak for allowing her to play for St. Pat’s!
URL:https://loneoakbrewingco.com/event/live-music-bagpiper-extraordinaire-olivia-corcoran/
LOCATION:MD
CATEGORIES:Live Music
ATTACH;FMTTYPE=image/png:https://loneoakbrewingco.com/wp-content/uploads/2023/02/Screenshot-2023-02-05-at-3.45.59-PM.png
END:VEVENT
END:VCALENDAR