BEGIN:VCALENDAR
VERSION:2.0
PRODID:-//Lone Oak Brewing Co. - ECPv6.15.20//NONSGML v1.0//EN
CALSCALE:GREGORIAN
METHOD:PUBLISH
X-WR-CALNAME:Lone Oak Brewing Co.
X-ORIGINAL-URL:https://loneoakbrewingco.com
X-WR-CALDESC:Events for Lone Oak Brewing Co.
REFRESH-INTERVAL;VALUE=DURATION:PT1H
X-Robots-Tag:noindex
X-PUBLISHED-TTL:PT1H
BEGIN:VTIMEZONE
TZID:UTC
BEGIN:STANDARD
TZOFFSETFROM:+0000
TZOFFSETTO:+0000
TZNAME:UTC
DTSTART:20220101T000000
END:STANDARD
END:VTIMEZONE
BEGIN:VEVENT
DTSTART;VALUE=DATE:20230501
DTEND;VALUE=DATE:20230502
DTSTAMP:20260422T102906
CREATED:20230318T030633Z
LAST-MODIFIED:20230318T030859Z
UID:2986-1682899200-1682985599@loneoakbrewingco.com
SUMMARY:FIRE PITS SWITCH TO VIP TABLES
DESCRIPTION:Warmer weather is ahead! We will be switching our fire pit reservations to VIP tables. \nOur Tents and VIP tables are available by reservation only.\nAll are a great way to book a guaranteed spot at The Farm! Each Tent or VIP table comes with its own private server. The tents include fans in the summer and heaters in the winter to make it extra comfortable! \nPlease note: We do not rent picnic tables. All tables are first-come\, first-served. Groups may not take more than 2 tables in the field or inside any covered areas like the taproom\, porch or pavilion. Please do not move tables. Thank you! \nYou can make a reservation here on our website.
URL:https://loneoakbrewingco.com/event/fire-pits-switch-to-vip-tables/
LOCATION:Lone Oak Brewery\, 5000 Olney Laytonsville Rd\, Olney\, MD\, 20832\, United States
CATEGORIES:Reservation
ATTACH;FMTTYPE=image/jpeg:https://loneoakbrewingco.com/wp-content/uploads/2022/04/more-vip-table.jpg
END:VEVENT
END:VCALENDAR