BEGIN:VCALENDAR
VERSION:2.0
PRODID:-//Lone Oak Brewing Co. - ECPv6.15.20//NONSGML v1.0//EN
CALSCALE:GREGORIAN
METHOD:PUBLISH
X-WR-CALNAME:Lone Oak Brewing Co.
X-ORIGINAL-URL:https://loneoakbrewingco.com
X-WR-CALDESC:Events for Lone Oak Brewing Co.
REFRESH-INTERVAL;VALUE=DURATION:PT1H
X-Robots-Tag:noindex
X-PUBLISHED-TTL:PT1H
BEGIN:VTIMEZONE
TZID:UTC
BEGIN:STANDARD
TZOFFSETFROM:+0000
TZOFFSETTO:+0000
TZNAME:UTC
DTSTART:20220101T000000
END:STANDARD
END:VTIMEZONE
BEGIN:VEVENT
DTSTART;TZID=UTC:20230504T180000
DTEND;TZID=UTC:20230504T200000
DTSTAMP:20260422T102908
CREATED:20230505T010530Z
LAST-MODIFIED:20230505T010530Z
UID:3155-1683223200-1683230400@loneoakbrewingco.com
SUMMARY:TRIVIA NIGHT WITH POUR HOUSE TRIVIA!
DESCRIPTION:Grab your thinking cap and test your knowledge with Pour House Trivia! Get a group together for prizes and $5 beer! All ages and levels are welcome. \nWe’ll see you there!
URL:https://loneoakbrewingco.com/event/trivia-night-with-pour-house-trivia-7/
LOCATION:Lone Oak Brewery\, 5000 Olney Laytonsville Rd\, Olney\, MD\, 20832\, United States
CATEGORIES:Trivia
ATTACH;FMTTYPE=image/jpeg:https://loneoakbrewingco.com/wp-content/uploads/2022/03/pourhousetrivia.jpg
END:VEVENT
BEGIN:VEVENT
DTSTART;TZID=UTC:20230504T190000
DTEND;TZID=UTC:20230504T210000
DTSTAMP:20260422T102908
CREATED:20230428T040036Z
LAST-MODIFIED:20230428T040137Z
UID:3055-1683226800-1683234000@loneoakbrewingco.com
SUMMARY:LAUGH AT LONE OAK COMEDY SHOW
DESCRIPTION:Join BOJO Entertainment and Lone Oak Farm Brewing Co. on Thursday\, May 4th for a special live comedy show featuring three nationally touring comedians as seen on Comedy Central\, NBC\, CBS\, The Game Show network\, Spotify and more! \nThis event will be outside in the pavilion so dress accordingly. \nTickets are only $22 per person & tables of 6 are $125! Get your tickets here: https://www.eventbrite.com/e/live-national-comedy-show-lone-oak-farm-brewing-tickets-618342738777 
URL:https://loneoakbrewingco.com/event/laugh-at-lone-oak-comedy-show-7/
LOCATION:Lone Oak Brewery\, 5000 Olney Laytonsville Rd\, Olney\, MD\, 20832\, United States
CATEGORIES:Ticketed Event
ATTACH;FMTTYPE=image/png:https://loneoakbrewingco.com/wp-content/uploads/2023/04/Screenshot-2023-04-27-at-7.59.29-PM.png
END:VEVENT
END:VCALENDAR