BEGIN:VCALENDAR
VERSION:2.0
PRODID:-//Lone Oak Brewing Co. - ECPv6.15.20//NONSGML v1.0//EN
CALSCALE:GREGORIAN
METHOD:PUBLISH
X-ORIGINAL-URL:https://loneoakbrewingco.com
X-WR-CALDESC:Events for Lone Oak Brewing Co.
REFRESH-INTERVAL;VALUE=DURATION:PT1H
X-Robots-Tag:noindex
X-PUBLISHED-TTL:PT1H
BEGIN:VTIMEZONE
TZID:UTC
BEGIN:STANDARD
TZOFFSETFROM:+0000
TZOFFSETTO:+0000
TZNAME:UTC
DTSTART:20220101T000000
END:STANDARD
END:VTIMEZONE
BEGIN:VEVENT
DTSTART;TZID=UTC:20230507T120000
DTEND;TZID=UTC:20230507T200000
DTSTAMP:20260422T102955
CREATED:20230428T043631Z
LAST-MODIFIED:20230428T043631Z
UID:3059-1683460800-1683489600@loneoakbrewingco.com
SUMMARY:MONTGOMERY COUNTY CORNHOLE PRESENTS THE THROWDOWN CORNHOLE TOURNAMENT AT LONE OAK FARM
DESCRIPTION:Show ’em what ya got! Grab a partner (or sign up solo) for our 3rd cornhole tournament at Lone Oak Farm! It’s a total blast\, and a great way to take down a few brews and spend some time at The Farm. \nWHEN: SUNDAY\, MAY 7 AT 12PM \n$40 ENTRY FEE PER TEAM \nCASH PRIZES AND LOF SWAG FOR WINNERS \nQuestions? Reach out to mococornhole@yahoo.com \nRegister on the Scoreholio App or using our flyers hanging around the taproom. Can’t wait to see you there!
URL:https://loneoakbrewingco.com/event/montgomery-county-cornhole-presents-the-throwdown-cornhole-tournament-at-lone-oak-farm-2/
LOCATION:Lone Oak Brewery\, 5000 Olney Laytonsville Rd\, Olney\, MD\, 20832\, United States
CATEGORIES:Ticketed Event
ATTACH;FMTTYPE=image/png:https://loneoakbrewingco.com/wp-content/uploads/2023/04/Screenshot-2023-04-27-at-8.30.26-PM.png
END:VEVENT
END:VCALENDAR