BEGIN:VCALENDAR
VERSION:2.0
PRODID:-//Lone Oak Brewing Co. - ECPv6.15.20//NONSGML v1.0//EN
CALSCALE:GREGORIAN
METHOD:PUBLISH
X-ORIGINAL-URL:https://loneoakbrewingco.com
X-WR-CALDESC:Events for Lone Oak Brewing Co.
REFRESH-INTERVAL;VALUE=DURATION:PT1H
X-Robots-Tag:noindex
X-PUBLISHED-TTL:PT1H
BEGIN:VTIMEZONE
TZID:UTC
BEGIN:STANDARD
TZOFFSETFROM:+0000
TZOFFSETTO:+0000
TZNAME:UTC
DTSTART:20220101T000000
END:STANDARD
END:VTIMEZONE
BEGIN:VEVENT
DTSTART;TZID=UTC:20230527T120000
DTEND;TZID=UTC:20230527T200000
DTSTAMP:20260422T102103
CREATED:20230513T211752Z
LAST-MODIFIED:20230513T211752Z
UID:3172-1685188800-1685217600@loneoakbrewingco.com
SUMMARY:FOOD TRUCK - THE CROQUETRUCK
DESCRIPTION:Chef Serge Pambo grew up in France. “My cuisine is a reflection of myself! I visited 25 different countries and I speak 4 languages.” The Croguetruck is a French Afro Caribbean and Asian fusion cuisine. It is a unique concept with a delicious taste.” Come check it out! \nChef Serge Pambo’s Instagram page is @Purekitchencc
URL:https://loneoakbrewingco.com/event/food-truck-the-croquetruck/
LOCATION:Lone Oak Brewery\, 5000 Olney Laytonsville Rd\, Olney\, MD\, 20832\, United States
CATEGORIES:Food Truck
ATTACH;FMTTYPE=image/png:https://loneoakbrewingco.com/wp-content/uploads/2023/05/Screenshot-2023-05-13-at-1.16.15-PM.png
END:VEVENT
BEGIN:VEVENT
DTSTART;TZID=UTC:20230527T140000
DTEND;TZID=UTC:20230527T170000
DTSTAMP:20260422T102103
CREATED:20230428T225145Z
LAST-MODIFIED:20230428T225145Z
UID:3062-1685196000-1685206800@loneoakbrewingco.com
SUMMARY:LIVE MUSIC - JOHN DECESARE
DESCRIPTION:
URL:https://loneoakbrewingco.com/event/live-music-john-decesare-4/
LOCATION:Lone Oak Brewery\, 5000 Olney Laytonsville Rd\, Olney\, MD\, 20832\, United States
CATEGORIES:Live Music
ATTACH;FMTTYPE=image/png:https://loneoakbrewingco.com/wp-content/uploads/2023/04/Screen-Shot-2022-10-19-at-2.34.57-PM.png
END:VEVENT
END:VCALENDAR