BEGIN:VCALENDAR
VERSION:2.0
PRODID:-//Lone Oak Brewing Co. - ECPv6.15.20//NONSGML v1.0//EN
CALSCALE:GREGORIAN
METHOD:PUBLISH
X-WR-CALNAME:Lone Oak Brewing Co.
X-ORIGINAL-URL:https://loneoakbrewingco.com
X-WR-CALDESC:Events for Lone Oak Brewing Co.
REFRESH-INTERVAL;VALUE=DURATION:PT1H
X-Robots-Tag:noindex
X-PUBLISHED-TTL:PT1H
BEGIN:VTIMEZONE
TZID:UTC
BEGIN:STANDARD
TZOFFSETFROM:+0000
TZOFFSETTO:+0000
TZNAME:UTC
DTSTART:20220101T000000
END:STANDARD
END:VTIMEZONE
BEGIN:VEVENT
DTSTART;TZID=UTC:20230701T140000
DTEND;TZID=UTC:20230701T170000
DTSTAMP:20260422T120359
CREATED:20230429T015337Z
LAST-MODIFIED:20230429T015337Z
UID:3070-1688220000-1688230800@loneoakbrewingco.com
SUMMARY:LIVE MUSIC - BLOUSES
DESCRIPTION:Lauren Sumner grew up in Germantown\, MD. She now lives in Damascus training horses and teaching horseback riding out of her own ‘Crossfire Farm.\nLauren got into music at a young age. It began with imitating the singers she would hear from her mom’s Blues collection. It was here she discovered her natural ability to sing!\nJohn Mayer and Stevie Ray Vaughan are her biggest influences. \nBryan Wolf grew up in Brookeville\, MD.\nHis passion for listening to music started when he was young with the Backstreet Boys and radio country.\nBryan was quick to pick up a guitar at 13 years old once he started listening to the rock of the ’60s and 70’s once introduced to Led Zeppelin\, Pink Floyd\, and AC DC.\nBryan’s biggest influences are Father John Misty and the Beatles. \nBeing local TO US means contributing to and supporting the community that helped raise and support us. It means seeing familiar faces at our gigs around town and running into people we haven’t seen for years but feel like we’ve never lost touch with.
URL:https://loneoakbrewingco.com/event/live-music-blouses/
LOCATION:Lone Oak Brewery\, 5000 Olney Laytonsville Rd\, Olney\, MD\, 20832\, United States
CATEGORIES:Live Music
ATTACH;FMTTYPE=image/png:https://loneoakbrewingco.com/wp-content/uploads/2022/04/login.png
END:VEVENT
END:VCALENDAR