BEGIN:VCALENDAR
VERSION:2.0
PRODID:-//Lone Oak Brewing Co. - ECPv6.15.20//NONSGML v1.0//EN
CALSCALE:GREGORIAN
METHOD:PUBLISH
X-ORIGINAL-URL:https://loneoakbrewingco.com
X-WR-CALDESC:Events for Lone Oak Brewing Co.
REFRESH-INTERVAL;VALUE=DURATION:PT1H
X-Robots-Tag:noindex
X-PUBLISHED-TTL:PT1H
BEGIN:VTIMEZONE
TZID:UTC
BEGIN:STANDARD
TZOFFSETFROM:+0000
TZOFFSETTO:+0000
TZNAME:UTC
DTSTART:20220101T000000
END:STANDARD
END:VTIMEZONE
BEGIN:VEVENT
DTSTART;TZID=UTC:20230720T190000
DTEND;TZID=UTC:20230720T210000
DTSTAMP:20260422T140407
CREATED:20230629T014718Z
LAST-MODIFIED:20230629T014718Z
UID:3225-1689879600-1689886800@loneoakbrewingco.com
SUMMARY:Lone Oak Comedy Show
DESCRIPTION:Don’t miss a special comedy event at Lone Oak Farm Brewing Company\, Thursday\, July 20 hosted by nationally touring comedian Lucas Bohn featuring a one night only headline performance from comedian Dan Gabriel. Dan has been seen on Comedy Central\, Showtime\, NBC’s Last Comic Standing\, the Late Late Show with James Corden\, and performing with comedy legends like Dave Chappelle\, George Lopez\, and Bob Saget. He is also the winner of the prestigious Los Angelos Take Out the Comedy Competition. His critically acclaimed last album can be found on SiriusXM\, Pandora\, Spotify\, and ITunes. \nHost Lucas Bohn has been seen on NBC\, CBS nationally and performing with comedy legends Jimmy Fallon\, Kevin Hart\, Dave Chappelle\, Larry the Cable guy and more. His 2nd live comedy special went viral with over 50 million views and can be found on SiriusXM\, Spotify\, Apple Music\, and Pandora. Lucas will be joined by DC Comedy Fest rising star Kevin Skiffington. \nTickets are only $22 per person & tables of 6 are $125!
URL:https://loneoakbrewingco.com/event/lone-oak-comedy-show/
LOCATION:Lone Oak Brewery\, 5000 Olney Laytonsville Rd\, Olney\, MD\, 20832\, United States
CATEGORIES:Ticketed Event
ATTACH;FMTTYPE=image/png:https://loneoakbrewingco.com/wp-content/uploads/2023/06/Lone-Oak-Show-Social-Post.png
END:VEVENT
END:VCALENDAR