BEGIN:VCALENDAR
VERSION:2.0
PRODID:-//Lone Oak Brewing Co. - ECPv6.15.20//NONSGML v1.0//EN
CALSCALE:GREGORIAN
METHOD:PUBLISH
X-ORIGINAL-URL:https://loneoakbrewingco.com
X-WR-CALDESC:Events for Lone Oak Brewing Co.
REFRESH-INTERVAL;VALUE=DURATION:PT1H
X-Robots-Tag:noindex
X-PUBLISHED-TTL:PT1H
BEGIN:VTIMEZONE
TZID:UTC
BEGIN:STANDARD
TZOFFSETFROM:+0000
TZOFFSETTO:+0000
TZNAME:UTC
DTSTART:20220101T000000
END:STANDARD
END:VTIMEZONE
BEGIN:VEVENT
DTSTART;TZID=UTC:20231015T120000
DTEND;TZID=UTC:20231015T200000
DTSTAMP:20260422T222803
CREATED:20230827T192001Z
LAST-MODIFIED:20230827T192001Z
UID:3410-1697371200-1697400000@loneoakbrewingco.com
SUMMARY:FOOD TRUCK- MARIA'S KITCHEN
DESCRIPTION:
URL:https://loneoakbrewingco.com/event/food-truck-marias-kitchen-6/
LOCATION:Lone Oak Brewery\, 5000 Olney Laytonsville Rd\, Olney\, MD\, 20832\, United States
CATEGORIES:Food Truck
ATTACH;FMTTYPE=image/png:https://loneoakbrewingco.com/wp-content/uploads/2023/08/Screenshot-2023-03-17-at-9.25.03-PM.png
END:VEVENT
BEGIN:VEVENT
DTSTART;TZID=UTC:20231015T140000
DTEND;TZID=UTC:20231015T170000
DTSTAMP:20260422T222803
CREATED:20230827T192056Z
LAST-MODIFIED:20230827T192056Z
UID:3412-1697378400-1697389200@loneoakbrewingco.com
SUMMARY:LIVE MUSIC- NOAH BOOZ
DESCRIPTION:Noah Booz is a multi-talented musician with a passion for creating and performing music. His journey with music began in his childhood\, playing with friends and family in his hometown of Brookeville\, Maryland. In the early 2010s his band won The Next Big Thing Battle of the Band at the 9:30 Club\, released two albums and performed an East Coast tour. \nNoah’s love for music led him to pursue a Bachelor’s degree in music from the University of Maryland\, where he honed his skills as a musician and performer. After graduating\, he played regularly with a jazz trio and hosted house show performances in the DIY music scene. In 2018\, he took his talent to Los Angeles\, where he worked as a professional musician. His skills and passion for music opened doors to travel and perform across the nation. \nNoah’s dedication to music extends beyond performing. He has been teaching music for over a decade\, sharing his knowledge and expertise with aspiring musicians. His teaching style is engaging and supportive\, creating a positive learning environment for his students. \nNoah returned to Maryland in 2022 and performs solo regularly. His passion for music is contagious\, and he continues to inspire and encourage others to pursue their dreams in music. Whether he’s performing on stage\, teaching a lesson\, or collaborating with other musicians\, Noah is a creative musician who is dedicated to the art of music.
URL:https://loneoakbrewingco.com/event/live-music-noah-booz-5/
LOCATION:Lone Oak Brewery\, 5000 Olney Laytonsville Rd\, Olney\, MD\, 20832\, United States
CATEGORIES:Live Music
ATTACH;FMTTYPE=image/png:https://loneoakbrewingco.com/wp-content/uploads/2023/08/Screen-Shot-2022-10-14-at-7.11.50-PM-e1665789147651.png
END:VEVENT
END:VCALENDAR