BEGIN:VCALENDAR
VERSION:2.0
PRODID:-//Lone Oak Brewing Co. - ECPv6.15.20//NONSGML v1.0//EN
CALSCALE:GREGORIAN
METHOD:PUBLISH
X-WR-CALNAME:Lone Oak Brewing Co.
X-ORIGINAL-URL:https://loneoakbrewingco.com
X-WR-CALDESC:Events for Lone Oak Brewing Co.
REFRESH-INTERVAL;VALUE=DURATION:PT1H
X-Robots-Tag:noindex
X-PUBLISHED-TTL:PT1H
BEGIN:VTIMEZONE
TZID:UTC
BEGIN:STANDARD
TZOFFSETFROM:+0000
TZOFFSETTO:+0000
TZNAME:UTC
DTSTART:20220101T000000
END:STANDARD
END:VTIMEZONE
BEGIN:VEVENT
DTSTART;TZID=UTC:20231026T180000
DTEND;TZID=UTC:20231026T200000
DTSTAMP:20260422T192238
CREATED:20231025T084650Z
LAST-MODIFIED:20231025T084743Z
UID:3531-1698343200-1698350400@loneoakbrewingco.com
SUMMARY:TRIVIA
DESCRIPTION:Grab your thinking cap and test your knowledge with Pour House Trivia! Get a group together for prizes and $5 beer! All ages and levels are welcome. \nWe’ll see you there!
URL:https://loneoakbrewingco.com/event/trivia-2/
LOCATION:Lone Oak Brewery\, 5000 Olney Laytonsville Rd\, Olney\, MD\, 20832\, United States
ATTACH;FMTTYPE=image/jpeg:https://loneoakbrewingco.com/wp-content/uploads/2023/08/pourhousetrivia-1.jpg
END:VEVENT
BEGIN:VEVENT
DTSTART;TZID=UTC:20231026T190000
DTEND;TZID=UTC:20231026T210000
DTSTAMP:20260422T192238
CREATED:20231025T083618Z
LAST-MODIFIED:20231025T083618Z
UID:3525-1698346800-1698354000@loneoakbrewingco.com
SUMMARY:COMEDY SHOW
DESCRIPTION:Nationally touring comedian Jeff Jena has been seen on more than 50 network TV shows including on The Dennis Miller Show\, NBC\, Showtime\, Comedy Central\, MTV\, HBO and more. \nHe will be joined by Host Lucas Bohn has been seen on NBC\, CBS nationally and performing with comedy legends Jimmy Fallon\, Kevin Hart\, Dave Chappelle\, Larry the Cable guy and more. \nDewayne While will also performed. He’s a combat-wounded veteran who served in the Army for 23 years. His humor is drawn from his unique take on his military experience\, his life as a husband and father\, and the general craziness of life. Dewayne was a finalist in the “Last DC Comic Standing.” \nDon’t miss out on this special national comedy event! \nSeating is limited\, so don’t miss out and get your tickets quickly! \nTickets are only $23 per person & tables of 6 are $125!
URL:https://loneoakbrewingco.com/event/comedy-show-2/
LOCATION:Lone Oak Brewery\, 5000 Olney Laytonsville Rd\, Olney\, MD\, 20832\, United States
ATTACH;FMTTYPE=image/png:https://loneoakbrewingco.com/wp-content/uploads/2023/10/LOFB-Flyer.png
END:VEVENT
END:VCALENDAR