BEGIN:VCALENDAR
VERSION:2.0
PRODID:-//Lone Oak Brewing Co. - ECPv6.15.20//NONSGML v1.0//EN
CALSCALE:GREGORIAN
METHOD:PUBLISH
X-WR-CALNAME:Lone Oak Brewing Co.
X-ORIGINAL-URL:https://loneoakbrewingco.com
X-WR-CALDESC:Events for Lone Oak Brewing Co.
REFRESH-INTERVAL;VALUE=DURATION:PT1H
X-Robots-Tag:noindex
X-PUBLISHED-TTL:PT1H
BEGIN:VTIMEZONE
TZID:UTC
BEGIN:STANDARD
TZOFFSETFROM:+0000
TZOFFSETTO:+0000
TZNAME:UTC
DTSTART:20220101T000000
END:STANDARD
END:VTIMEZONE
BEGIN:VEVENT
DTSTART;TZID=UTC:20231123T180000
DTEND;TZID=UTC:20231123T200000
DTSTAMP:20260422T210351
CREATED:20231025T084650Z
LAST-MODIFIED:20231025T084747Z
UID:3540-1700762400-1700769600@loneoakbrewingco.com
SUMMARY:TRIVIA
DESCRIPTION:Grab your thinking cap and test your knowledge with Pour House Trivia! Get a group together for prizes and $5 beer! All ages and levels are welcome. \nWe’ll see you there!
URL:https://loneoakbrewingco.com/event/trivia-2-2023-11-23/
LOCATION:Lone Oak Brewery\, 5000 Olney Laytonsville Rd\, Olney\, MD\, 20832\, United States
ATTACH;FMTTYPE=image/jpeg:https://loneoakbrewingco.com/wp-content/uploads/2023/08/pourhousetrivia-1.jpg
END:VEVENT
END:VCALENDAR