BEGIN:VCALENDAR
VERSION:2.0
PRODID:-//Lone Oak Brewing Co. - ECPv6.15.20//NONSGML v1.0//EN
CALSCALE:GREGORIAN
METHOD:PUBLISH
X-ORIGINAL-URL:https://loneoakbrewingco.com
X-WR-CALDESC:Events for Lone Oak Brewing Co.
REFRESH-INTERVAL;VALUE=DURATION:PT1H
X-Robots-Tag:noindex
X-PUBLISHED-TTL:PT1H
BEGIN:VTIMEZONE
TZID:UTC
BEGIN:STANDARD
TZOFFSETFROM:+0000
TZOFFSETTO:+0000
TZNAME:UTC
DTSTART:20230101T000000
END:STANDARD
END:VTIMEZONE
BEGIN:VEVENT
DTSTART;TZID=UTC:20240210T140000
DTEND;TZID=UTC:20240210T170000
DTSTAMP:20260423T014526
CREATED:20240103T004615Z
LAST-MODIFIED:20240118T233947Z
UID:3599-1707573600-1707584400@loneoakbrewingco.com
SUMMARY:LIVE MUSIC: GRASSO BROTHERS
DESCRIPTION:Playing soul\, rock\, blues\, funk and reggae\, originals and covers. These two brothers bring their extensive background to their acoustic performance. Hailing from such bands as Uncle Chunky\, Jr. Cline and The Recliners\, Doctors’ Orders and Nayas\, harmony and groove are at the heart every show! \nOur parents were national and international recording artists in the 1970s and were signed to major labels\, ABC and Warner Brothers records respectively. \nGrowing up in Takoma Park MD has had huge impact on our sound! We use lots of DCs own GO GO infused with other local genres in our sound.
URL:https://loneoakbrewingco.com/event/live-music-grasso-brothers-2/
LOCATION:Lone Oak Brewery\, 5000 Olney Laytonsville Rd\, Olney\, MD\, 20832\, United States
CATEGORIES:Live Music
ATTACH;FMTTYPE=image/tiff:https://loneoakbrewingco.com/wp-content/uploads/2024/01/Pasted-Graphic.tiff
END:VEVENT
END:VCALENDAR