BEGIN:VCALENDAR
VERSION:2.0
PRODID:-//Lone Oak Brewing Co. - ECPv6.15.20//NONSGML v1.0//EN
CALSCALE:GREGORIAN
METHOD:PUBLISH
X-WR-CALNAME:Lone Oak Brewing Co.
X-ORIGINAL-URL:https://loneoakbrewingco.com
X-WR-CALDESC:Events for Lone Oak Brewing Co.
REFRESH-INTERVAL;VALUE=DURATION:PT1H
X-Robots-Tag:noindex
X-PUBLISHED-TTL:PT1H
BEGIN:VTIMEZONE
TZID:UTC
BEGIN:STANDARD
TZOFFSETFROM:+0000
TZOFFSETTO:+0000
TZNAME:UTC
DTSTART:20230101T000000
END:STANDARD
END:VTIMEZONE
BEGIN:VEVENT
DTSTART;TZID=UTC:20240215T190000
DTEND;TZID=UTC:20240215T210000
DTSTAMP:20260423T014531
CREATED:20240210T030902Z
LAST-MODIFIED:20240210T031018Z
UID:3773-1708023600-1708030800@loneoakbrewingco.com
SUMMARY:LOVE AND LAUGH AT LONE OAK COMEDY SHOW
DESCRIPTION:Don’t miss a special valentine’s weekend comedy event at Lone Oak Farm Brewing Co. featuring nationally touring comedian Chris Wiles. \nChris\, appeared on Season 3 of NBC’s hit show Last Comic Standing as well as performances on FOX\, SPEED\, and CBS. Chris has also worked with some of the biggest names in the business including Pauly Shore\, Norm Macdonald\, Carrot Top\, and Chris Rock. \nHe will be joined by John Kensil who opened for one of the hottest acts in comedy—Bert Kreischer and has performed as some of the biggest comedy clubs on the east coast including the Baltimore Comedy Factory and Helium-Philadelphia. \nThe show will be hosted by Laurent Amzallag who joined Oprah on her Live Your Best Life Tour and made movie apprentices in ICEMAN\, Cuffed\, and the Shirt. \nT his is an INDOOR show\, so tickets will be limited. Make sure to get your tickets quickly! \nTHIS SHOW IS CURRENTLY SOLD OUT! KEEP AN EYE OUT FOR OTHER UPCOMING SHOW!
URL:https://loneoakbrewingco.com/event/love-and-laugh-at-lone-oak-comedy-show/
LOCATION:Lone Oak Brewery\, 5000 Olney Laytonsville Rd\, Olney\, MD\, 20832\, United States
CATEGORIES:Ticketed Event
ATTACH;FMTTYPE=image/png:https://loneoakbrewingco.com/wp-content/uploads/2023/06/Love-at-Lone-Oak-Comedy-Show-Valentines-Day.png
END:VEVENT
END:VCALENDAR