BEGIN:VCALENDAR
VERSION:2.0
PRODID:-//Lone Oak Brewing Co. - ECPv6.15.20//NONSGML v1.0//EN
CALSCALE:GREGORIAN
METHOD:PUBLISH
X-WR-CALNAME:Lone Oak Brewing Co.
X-ORIGINAL-URL:https://loneoakbrewingco.com
X-WR-CALDESC:Events for Lone Oak Brewing Co.
REFRESH-INTERVAL;VALUE=DURATION:PT1H
X-Robots-Tag:noindex
X-PUBLISHED-TTL:PT1H
BEGIN:VTIMEZONE
TZID:UTC
BEGIN:STANDARD
TZOFFSETFROM:+0000
TZOFFSETTO:+0000
TZNAME:UTC
DTSTART:20230101T000000
END:STANDARD
END:VTIMEZONE
BEGIN:VEVENT
DTSTART;TZID=UTC:20240411T190000
DTEND;TZID=UTC:20240411T210000
DTSTAMP:20260423T050641
CREATED:20240329T010209Z
LAST-MODIFIED:20240329T010223Z
UID:3870-1712862000-1712869200@loneoakbrewingco.com
SUMMARY:LAUGH AT LONE OAK COMEDY SHOW
DESCRIPTION:Don’t miss a comedy event at Lone Oak Farm Brewing Co. featuring nationally touring comedian Claude Stuart. \nAs seen on NBC’s “The Tonight Show” and “Last Comic Standing”\, USA’s “Comics Unleashed” Amazon Prime\, and the Weather Channel’s “Weather Gone Viral!”\, Claude’s fast-paced style has evoked comparisons to golden era physical comedians such as Steve Martin\, Robin Williams and Jim Carrey. \nHe has appeared on “That 70s Show”\, “Scrubs”\, “The Late\, Late Show”\, “Will & Grace”\, “Comics Unleashed”\, “Agent Carter”\, “Melissa & Joey”\, “Last Man Standing” with Tim Allen\, and more. He also created a show for The Tennis Channel that he wrote and hosted called “Game\, Set & Laugh!” \nHe will be joined by Von Mychael. Von’s a 6-time winner of the Funny Bone Clash of Comics and his new sketch comedy show can be seen on Amazon Prime. \nLucas Bohn will host the show. Lucas has been seen on NBC\, CBS\, and performing with comedy legends Jimmy Fallon\, Kevin Hart\, Dave Chappelle\, Larry the Cable guy and more. His 2nd live comedy special went viral with over 50 million views and can be found on SiriusXM\, Spotify\, Apple Music\, and Pandora. \nThis is an INDOOR show\, so tickets will be limited. Make sure to get your tickets quickly! \nPurchase tickets here: https://www.eventbrite.com/e/nbc-comedy-star-performing-live-in-montgomery-county-tickets-871482576847?aff=ebdssbdestsearch
URL:https://loneoakbrewingco.com/event/laugh-at-lone-oak-comedy-show-8/
LOCATION:Lone Oak Brewery\, 5000 Olney Laytonsville Rd\, Olney\, MD\, 20832\, United States
ATTACH;FMTTYPE=image/png:https://loneoakbrewingco.com/wp-content/uploads/2024/03/LO-April-Show-Flyer.png
END:VEVENT
END:VCALENDAR