BEGIN:VCALENDAR
VERSION:2.0
PRODID:-//Lone Oak Brewing Co. - ECPv6.15.20//NONSGML v1.0//EN
CALSCALE:GREGORIAN
METHOD:PUBLISH
X-ORIGINAL-URL:https://loneoakbrewingco.com
X-WR-CALDESC:Events for Lone Oak Brewing Co.
REFRESH-INTERVAL;VALUE=DURATION:PT1H
X-Robots-Tag:noindex
X-PUBLISHED-TTL:PT1H
BEGIN:VTIMEZONE
TZID:UTC
BEGIN:STANDARD
TZOFFSETFROM:+0000
TZOFFSETTO:+0000
TZNAME:UTC
DTSTART:20230101T000000
END:STANDARD
END:VTIMEZONE
BEGIN:VEVENT
DTSTART;TZID=UTC:20240420T120000
DTEND;TZID=UTC:20240420T200000
DTSTAMP:20260423T050710
CREATED:20240226T023503Z
LAST-MODIFIED:20240226T023503Z
UID:3803-1713614400-1713643200@loneoakbrewingco.com
SUMMARY:FOOD TRUCK: JUS FOOD
DESCRIPTION:
URL:https://loneoakbrewingco.com/event/food-truck-jus-food/
LOCATION:Lone Oak Brewery\, 5000 Olney Laytonsville Rd\, Olney\, MD\, 20832\, United States
ATTACH;FMTTYPE=image/png:https://loneoakbrewingco.com/wp-content/uploads/2023/08/darkLogo_4002cac9-c135-4d2f-a21e-7c5618effe27.png
END:VEVENT
BEGIN:VEVENT
DTSTART;TZID=UTC:20240420T140000
DTEND;TZID=UTC:20240420T170000
DTSTAMP:20260423T050710
CREATED:20240226T023352Z
LAST-MODIFIED:20240226T025410Z
UID:3801-1713621600-1713632400@loneoakbrewingco.com
SUMMARY:LIVE MUSIC: KEVIN KOA
DESCRIPTION:
URL:https://loneoakbrewingco.com/event/live-music-kevin-koa/
LOCATION:Lone Oak Brewery\, 5000 Olney Laytonsville Rd\, Olney\, MD\, 20832\, United States
CATEGORIES:Live Music
ATTACH;FMTTYPE=image/png:https://loneoakbrewingco.com/wp-content/uploads/2023/08/darkLogo_4002cac9-c135-4d2f-a21e-7c5618effe27.png
END:VEVENT
END:VCALENDAR