BEGIN:VCALENDAR
VERSION:2.0
PRODID:-//Lone Oak Brewing Co. - ECPv6.15.20//NONSGML v1.0//EN
CALSCALE:GREGORIAN
METHOD:PUBLISH
X-ORIGINAL-URL:https://loneoakbrewingco.com
X-WR-CALDESC:Events for Lone Oak Brewing Co.
REFRESH-INTERVAL;VALUE=DURATION:PT1H
X-Robots-Tag:noindex
X-PUBLISHED-TTL:PT1H
BEGIN:VTIMEZONE
TZID:UTC
BEGIN:STANDARD
TZOFFSETFROM:+0000
TZOFFSETTO:+0000
TZNAME:UTC
DTSTART:20230101T000000
END:STANDARD
END:VTIMEZONE
BEGIN:VEVENT
DTSTART;TZID=UTC:20240825T130000
DTEND;TZID=UTC:20240825T200000
DTSTAMP:20260423T130619
CREATED:20240705T005648Z
LAST-MODIFIED:20240705T005648Z
UID:4224-1724590800-1724616000@loneoakbrewingco.com
SUMMARY:FOOD TRUCK - SALAT
DESCRIPTION:
URL:https://loneoakbrewingco.com/event/food-truck-salat-7/
LOCATION:Lone Oak Brewery\, 5000 Olney Laytonsville Rd\, Olney\, MD\, 20832\, United States
CATEGORIES:Food Truck
ATTACH;FMTTYPE=image/png:https://loneoakbrewingco.com/wp-content/uploads/2022/05/Screen-Shot-2022-05-28-at-6.14.01-PM-e1653776206645.png
END:VEVENT
BEGIN:VEVENT
DTSTART;TZID=UTC:20240825T140000
DTEND;TZID=UTC:20240825T170000
DTSTAMP:20260423T130619
CREATED:20240705T005608Z
LAST-MODIFIED:20240803T192559Z
UID:4221-1724594400-1724605200@loneoakbrewingco.com
SUMMARY:LIVE MUSIC - DAVE & LUNA
DESCRIPTION:
URL:https://loneoakbrewingco.com/event/live-music-dave-weber-3/
LOCATION:Lone Oak Brewery\, 5000 Olney Laytonsville Rd\, Olney\, MD\, 20832\, United States
CATEGORIES:Live Music
ATTACH;FMTTYPE=image/webp:https://loneoakbrewingco.com/wp-content/uploads/2024/07/dave-weber.webp
END:VEVENT
END:VCALENDAR