BEGIN:VCALENDAR
VERSION:2.0
PRODID:-//Lone Oak Brewing Co. - ECPv6.15.20//NONSGML v1.0//EN
CALSCALE:GREGORIAN
METHOD:PUBLISH
X-WR-CALNAME:Lone Oak Brewing Co.
X-ORIGINAL-URL:https://loneoakbrewingco.com
X-WR-CALDESC:Events for Lone Oak Brewing Co.
REFRESH-INTERVAL;VALUE=DURATION:PT1H
X-Robots-Tag:noindex
X-PUBLISHED-TTL:PT1H
BEGIN:VTIMEZONE
TZID:UTC
BEGIN:STANDARD
TZOFFSETFROM:+0000
TZOFFSETTO:+0000
TZNAME:UTC
DTSTART:20230101T000000
END:STANDARD
END:VTIMEZONE
BEGIN:VEVENT
DTSTART;TZID=UTC:20240908T140000
DTEND;TZID=UTC:20240908T170000
DTSTAMP:20260423T163023
CREATED:20240705T011909Z
LAST-MODIFIED:20240906T034344Z
UID:4240-1725804000-1725814800@loneoakbrewingco.com
SUMMARY:LIVE MUSIC - TAKE TWO DUO
DESCRIPTION:Vince and Chris grew up in Silver Spring and played in a Classic Rock band in our college years. We played Top 40 plus the Allman Brothers\, Yes and Emerson Lake and Palmer among others\n\nWe later played in a Soul Band which covered songs by Chicago\, Tower of Power and Blood Sweat and Tears.\n\nWhile we continue to play in larger groups\, we’ve played together as Take Two for twelve years and really enjoy the musical challenges of performing as a duo.\n\nWe enjoy playing in familiar and new venues as part of this diverse local music community and getting feedback on what we do.
URL:https://loneoakbrewingco.com/event/live-music-take-two-duo/
LOCATION:Lone Oak Brewery\, 5000 Olney Laytonsville Rd\, Olney\, MD\, 20832\, United States
CATEGORIES:Live Music
ATTACH;FMTTYPE=image/jpeg:https://loneoakbrewingco.com/wp-content/uploads/2024/07/Vince-and-Chris-Ad-scaled.jpg
END:VEVENT
END:VCALENDAR