BEGIN:VCALENDAR
VERSION:2.0
PRODID:-//Lone Oak Brewing Co. - ECPv6.15.20//NONSGML v1.0//EN
CALSCALE:GREGORIAN
METHOD:PUBLISH
X-WR-CALNAME:Lone Oak Brewing Co.
X-ORIGINAL-URL:https://loneoakbrewingco.com
X-WR-CALDESC:Events for Lone Oak Brewing Co.
REFRESH-INTERVAL;VALUE=DURATION:PT1H
X-Robots-Tag:noindex
X-PUBLISHED-TTL:PT1H
BEGIN:VTIMEZONE
TZID:UTC
BEGIN:STANDARD
TZOFFSETFROM:+0000
TZOFFSETTO:+0000
TZNAME:UTC
DTSTART:20230101T000000
END:STANDARD
END:VTIMEZONE
BEGIN:VEVENT
DTSTART;TZID=UTC:20241102T130000
DTEND;TZID=UTC:20241102T200000
DTSTAMP:20260423T163005
CREATED:20241005T025653Z
LAST-MODIFIED:20241005T025653Z
UID:4501-1730552400-1730577600@loneoakbrewingco.com
SUMMARY:FOOD TRUCK - GRUBBING HARD
DESCRIPTION:
URL:https://loneoakbrewingco.com/event/food-truck-grubbing-hard-19/
LOCATION:Lone Oak Brewery\, 5000 Olney Laytonsville Rd\, Olney\, MD\, 20832\, United States
CATEGORIES:Food Truck
ATTACH;FMTTYPE=image/jpeg:https://loneoakbrewingco.com/wp-content/uploads/2022/03/grubbin-hard.jpeg
END:VEVENT
BEGIN:VEVENT
DTSTART;TZID=UTC:20241102T160000
DTEND;TZID=UTC:20241102T190000
DTSTAMP:20260423T163005
CREATED:20241004T030646Z
LAST-MODIFIED:20241004T030646Z
UID:4449-1730563200-1730574000@loneoakbrewingco.com
SUMMARY:LIVE MUSIC - BILL JONES
DESCRIPTION:A retired teacher\, Bill Jones\, plays acoustic guitar featuring songs of Jackson Browne\, James Taylor\, & Jimmy Buffet as well as other contemporary country artists. His songs incorporate drum beats and vocal harmonization that create a complete band performance. Bill has played guitar in the Maryland area for 40 years for social gatherings\, weddings\, private parties\, and local establishments.
URL:https://loneoakbrewingco.com/event/live-music-bill-jones-7/
LOCATION:Lone Oak Brewery\, 5000 Olney Laytonsville Rd\, Olney\, MD\, 20832\, United States
CATEGORIES:Live Music
ATTACH;FMTTYPE=image/jpeg:https://loneoakbrewingco.com/wp-content/uploads/2024/03/thumbnail_DSC_8645-scaled.jpg
END:VEVENT
END:VCALENDAR