BEGIN:VCALENDAR
VERSION:2.0
PRODID:-//Lone Oak Brewing Co. - ECPv6.15.20//NONSGML v1.0//EN
CALSCALE:GREGORIAN
METHOD:PUBLISH
X-ORIGINAL-URL:https://loneoakbrewingco.com
X-WR-CALDESC:Events for Lone Oak Brewing Co.
REFRESH-INTERVAL;VALUE=DURATION:PT1H
X-Robots-Tag:noindex
X-PUBLISHED-TTL:PT1H
BEGIN:VTIMEZONE
TZID:UTC
BEGIN:STANDARD
TZOFFSETFROM:+0000
TZOFFSETTO:+0000
TZNAME:UTC
DTSTART:20230101T000000
END:STANDARD
END:VTIMEZONE
BEGIN:VEVENT
DTSTART;TZID=UTC:20241103T130000
DTEND;TZID=UTC:20241103T200000
DTSTAMP:20260423T163108
CREATED:20241005T025512Z
LAST-MODIFIED:20241012T014231Z
UID:4498-1730638800-1730664000@loneoakbrewingco.com
SUMMARY:FOOD TRUCK - JUS FOOD
DESCRIPTION:
URL:https://loneoakbrewingco.com/event/food-truck-jus-foods/
LOCATION:Lone Oak Brewery\, 5000 Olney Laytonsville Rd\, Olney\, MD\, 20832\, United States
CATEGORIES:Food Truck
ATTACH;FMTTYPE=image/jpeg:https://loneoakbrewingco.com/wp-content/uploads/2024/10/IMG_0707.jpeg
END:VEVENT
BEGIN:VEVENT
DTSTART;TZID=UTC:20241103T160000
DTEND;TZID=UTC:20241103T190000
DTSTAMP:20260423T163108
CREATED:20241004T030909Z
LAST-MODIFIED:20241103T020153Z
UID:4453-1730649600-1730660400@loneoakbrewingco.com
SUMMARY:LIVE MUSIC - DAVE WEBER & ARIELLE DEREGGI
DESCRIPTION:Dave Weber is experienced guitarist\, multi-instrumentalist\, singer\, audio engineer\, and music producer. Dave graduated from Wootton High School and holds a bachelor’s degree in computer science from the University of Maryland. He performs at area venues well over a hundred times a year. Growing up\, Dave’s favorite music genres were progressive rock and jazz/rock fusion. Today\, Dave loves all types of music. There is nothing Dave enjoys more in music than singing harmony with excellent female singers such as Selena. Dave has lived in Montgomery County nearly his whole and loves being a part of the local music scene.
URL:https://loneoakbrewingco.com/event/live-music-dave-weber-5/
LOCATION:Lone Oak Brewery\, 5000 Olney Laytonsville Rd\, Olney\, MD\, 20832\, United States
CATEGORIES:Live Music
ATTACH;FMTTYPE=image/webp:https://loneoakbrewingco.com/wp-content/uploads/2024/07/dave-weber.webp
END:VEVENT
END:VCALENDAR