BEGIN:VCALENDAR
VERSION:2.0
PRODID:-//Lone Oak Brewing Co. - ECPv6.15.20//NONSGML v1.0//EN
CALSCALE:GREGORIAN
METHOD:PUBLISH
X-WR-CALNAME:Lone Oak Brewing Co.
X-ORIGINAL-URL:https://loneoakbrewingco.com
X-WR-CALDESC:Events for Lone Oak Brewing Co.
REFRESH-INTERVAL;VALUE=DURATION:PT1H
X-Robots-Tag:noindex
X-PUBLISHED-TTL:PT1H
BEGIN:VTIMEZONE
TZID:UTC
BEGIN:STANDARD
TZOFFSETFROM:+0000
TZOFFSETTO:+0000
TZNAME:UTC
DTSTART:20230101T000000
END:STANDARD
END:VTIMEZONE
BEGIN:VEVENT
DTSTART;TZID=UTC:20241109T130000
DTEND;TZID=UTC:20241109T200000
DTSTAMP:20260424T105553
CREATED:20241005T025725Z
LAST-MODIFIED:20241005T025725Z
UID:4503-1731157200-1731182400@loneoakbrewingco.com
SUMMARY:FOOD TRUCK - GRUBBING HARD
DESCRIPTION:
URL:https://loneoakbrewingco.com/event/food-truck-grubbing-hard-20/
LOCATION:Lone Oak Brewery\, 5000 Olney Laytonsville Rd\, Olney\, MD\, 20832\, United States
CATEGORIES:Food Truck
ATTACH;FMTTYPE=image/jpeg:https://loneoakbrewingco.com/wp-content/uploads/2023/08/grubbin-hard.jpeg
END:VEVENT
BEGIN:VEVENT
DTSTART;TZID=UTC:20241109T160000
DTEND;TZID=UTC:20241109T190000
DTSTAMP:20260424T105553
CREATED:20241004T031014Z
LAST-MODIFIED:20241004T031014Z
UID:4455-1731168000-1731178800@loneoakbrewingco.com
SUMMARY:LIVE MUSIC - NOAH BOOZ
DESCRIPTION:Noah Booz is a multi-talented musician with a passion for creating and performing music. His journey with music began in his childhood\, playing with friends and family in his hometown of Brookeville\, Maryland. In the early 2010s his band won The Next Big Thing Battle of the Band at the 9:30 Club\, released two albums and performed an East Coast tour.
URL:https://loneoakbrewingco.com/event/live-music-noah-booz-8/
LOCATION:Lone Oak Brewery\, 5000 Olney Laytonsville Rd\, Olney\, MD\, 20832\, United States
CATEGORIES:Live Music
ATTACH;FMTTYPE=image/png:https://loneoakbrewingco.com/wp-content/uploads/2022/10/Screen-Shot-2022-10-14-at-7.11.50-PM-e1665789147651.png
END:VEVENT
END:VCALENDAR