BEGIN:VCALENDAR
VERSION:2.0
PRODID:-//Lone Oak Brewing Co. - ECPv6.15.20//NONSGML v1.0//EN
CALSCALE:GREGORIAN
METHOD:PUBLISH
X-WR-CALNAME:Lone Oak Brewing Co.
X-ORIGINAL-URL:https://loneoakbrewingco.com
X-WR-CALDESC:Events for Lone Oak Brewing Co.
REFRESH-INTERVAL;VALUE=DURATION:PT1H
X-Robots-Tag:noindex
X-PUBLISHED-TTL:PT1H
BEGIN:VTIMEZONE
TZID:UTC
BEGIN:STANDARD
TZOFFSETFROM:+0000
TZOFFSETTO:+0000
TZNAME:UTC
DTSTART:20230101T000000
END:STANDARD
END:VTIMEZONE
BEGIN:VEVENT
DTSTART;TZID=UTC:20241124T130000
DTEND;TZID=UTC:20241124T200000
DTSTAMP:20260424T105557
CREATED:20241005T030050Z
LAST-MODIFIED:20241019T214907Z
UID:4513-1732453200-1732478400@loneoakbrewingco.com
SUMMARY:FOOD TRUCK - SQUARE TACO
DESCRIPTION:
URL:https://loneoakbrewingco.com/event/food-truck-catalyst-hotdogs-5/
LOCATION:Lone Oak Brewery\, 5000 Olney Laytonsville Rd\, Olney\, MD\, 20832\, United States
CATEGORIES:Food Truck
ATTACH;FMTTYPE=image/webp:https://loneoakbrewingco.com/wp-content/uploads/2024/10/SQUARE-TACO.webp
END:VEVENT
BEGIN:VEVENT
DTSTART;TZID=UTC:20241124T160000
DTEND;TZID=UTC:20241124T190000
DTSTAMP:20260424T105557
CREATED:20241004T032942Z
LAST-MODIFIED:20241004T032942Z
UID:4469-1732464000-1732474800@loneoakbrewingco.com
SUMMARY:LIVE MUSIC - MARSH LOVERS
DESCRIPTION:The Marsh Lovers perform original songs and an eclectic mix of favorites. Greg and Lisa bring you intimate and topical lyrics to rock your soul when a full band won’t do.  \n​From the irresistible grooves of a rock n roll band to the soulful stylings of an acoustic duo\, Marsh Music gives you what you need!
URL:https://loneoakbrewingco.com/event/live-music-marsh-lovers/
LOCATION:Lone Oak Brewery\, 5000 Olney Laytonsville Rd\, Olney\, MD\, 20832\, United States
CATEGORIES:Live Music
ATTACH;FMTTYPE=image/webp:https://loneoakbrewingco.com/wp-content/uploads/2024/10/MARSH-LOVERS.webp
END:VEVENT
END:VCALENDAR