BEGIN:VCALENDAR
VERSION:2.0
PRODID:-//Lone Oak Brewing Co. - ECPv6.15.20//NONSGML v1.0//EN
CALSCALE:GREGORIAN
METHOD:PUBLISH
X-ORIGINAL-URL:https://loneoakbrewingco.com
X-WR-CALDESC:Events for Lone Oak Brewing Co.
REFRESH-INTERVAL;VALUE=DURATION:PT1H
X-Robots-Tag:noindex
X-PUBLISHED-TTL:PT1H
BEGIN:VTIMEZONE
TZID:UTC
BEGIN:STANDARD
TZOFFSETFROM:+0000
TZOFFSETTO:+0000
TZNAME:UTC
DTSTART:20240101T000000
END:STANDARD
END:VTIMEZONE
BEGIN:VEVENT
DTSTART;TZID=UTC:20250112T160000
DTEND;TZID=UTC:20250112T190000
DTSTAMP:20260424T143638
CREATED:20241223T031011Z
LAST-MODIFIED:20241223T031011Z
UID:4829-1736697600-1736708400@loneoakbrewingco.com
SUMMARY:Live Music - Three Shots to Lockout
DESCRIPTION:Three Shots to Lockout is an acoustic duo formed by Jay Spencer and Art Fox. Both of us have been playing together in local classic rock bands for over 12 years and still do today. We decided to form an acoustic duo to open up even more musical avenues. Our set list includes Allman Brothers\, Van Morrison\, Johnny Cash\, Eagles\, Tom Petty and so much more. Vocal harmonies are one of our strengths. Audience interaction is also very important to us. Being from the Montgomery County area\, we have many connections to the people we play for. We love the intimate vibe of the acoustic performance.
URL:https://loneoakbrewingco.com/event/live-music-three-shots-to-lockout/
LOCATION:Lone Oak Brewery\, 5000 Olney Laytonsville Rd\, Olney\, MD\, 20832\, United States
CATEGORIES:Live Music
ATTACH;FMTTYPE=image/jpeg:https://loneoakbrewingco.com/wp-content/uploads/2024/12/ThreeShotstoLockout.jpeg
END:VEVENT
END:VCALENDAR