BEGIN:VCALENDAR
VERSION:2.0
PRODID:-//Lone Oak Brewing Co. - ECPv6.15.20//NONSGML v1.0//EN
CALSCALE:GREGORIAN
METHOD:PUBLISH
X-WR-CALNAME:Lone Oak Brewing Co.
X-ORIGINAL-URL:https://loneoakbrewingco.com
X-WR-CALDESC:Events for Lone Oak Brewing Co.
REFRESH-INTERVAL;VALUE=DURATION:PT1H
X-Robots-Tag:noindex
X-PUBLISHED-TTL:PT1H
BEGIN:VTIMEZONE
TZID:UTC
BEGIN:STANDARD
TZOFFSETFROM:+0000
TZOFFSETTO:+0000
TZNAME:UTC
DTSTART:20240101T000000
END:STANDARD
END:VTIMEZONE
BEGIN:VEVENT
DTSTART;TZID=UTC:20250308T160000
DTEND;TZID=UTC:20250308T190000
DTSTAMP:20260424T180728
CREATED:20241216T051934Z
LAST-MODIFIED:20241216T051934Z
UID:4793-1741449600-1741460400@loneoakbrewingco.com
SUMMARY:Live Music - Billy and Berl
DESCRIPTION:Billy has been a lifelong musician starting at age 6 with private instruction and continuing into adulthood. Some highlights of his career are being in a band that toured the large festivals circuit and that he was a 5-time semifinalist at the International Blues Competition in Memphis\, Tennessee. Along the way\, he shared the stage as an opener for the likes of Joe Bonamassa\, Delbert McClinton\, Indigineous\, and Bo Diddley to name a few. Eventually he settled down and began playing in cover bands on lead guitar and drums before scaling back even more to do solo acoustic shows. These days he is joined by his wife Kimberly (Berl) on percussion and vocals to create an upbeat\, family friendly\, diverse show proven to please all crowds.
URL:https://loneoakbrewingco.com/event/live-music-billy-and-berl/
LOCATION:Lone Oak Brewery\, 5000 Olney Laytonsville Rd\, Olney\, MD\, 20832\, United States
CATEGORIES:Live Music
ATTACH;FMTTYPE=image/jpeg:https://loneoakbrewingco.com/wp-content/uploads/2024/12/BillyandBerl.jpg
END:VEVENT
END:VCALENDAR