BEGIN:VCALENDAR
VERSION:2.0
PRODID:-//Lone Oak Brewing Co. - ECPv6.15.20//NONSGML v1.0//EN
CALSCALE:GREGORIAN
METHOD:PUBLISH
X-ORIGINAL-URL:https://loneoakbrewingco.com
X-WR-CALDESC:Events for Lone Oak Brewing Co.
REFRESH-INTERVAL;VALUE=DURATION:PT1H
X-Robots-Tag:noindex
X-PUBLISHED-TTL:PT1H
BEGIN:VTIMEZONE
TZID:UTC
BEGIN:STANDARD
TZOFFSETFROM:+0000
TZOFFSETTO:+0000
TZNAME:UTC
DTSTART:20240101T000000
END:STANDARD
END:VTIMEZONE
BEGIN:VEVENT
DTSTART;TZID=UTC:20250316T160000
DTEND;TZID=UTC:20250316T190000
DTSTAMP:20260424T180656
CREATED:20241216T053710Z
LAST-MODIFIED:20241222T032508Z
UID:4802-1742140800-1742151600@loneoakbrewingco.com
SUMMARY:Live Music - Pull Up a Chair
DESCRIPTION:This is a familiar tale of two high school friends\, who start out spinning their favorite records and eventually end up jamming together. You know\, the usual. There was some travel\, living on separate coasts there for a while\, but all roads ultimately seem to lead back to home. \n\nThe DMV metropolitan area is a treasure trove of musical talent. The friends and family within this community who support it\, and the people who work so hard in the venues that host all the merrymaking\, provide all the essential elements to create an incredible arts scene in the place where we grew up. Good times! \n\nWe never stopped playing in various local bands\, but never the same ones. The years saw us work day (real?) jobs\, raise animals\, kids\, and a ruckus. There came a day though\, now many years ago\, hanging out after a performance – “You still playing? So am I!” And the inevitable… Let’s form a band!!!. Starting as a duo\, Pull Up A Chair soon morphed into a larger band\, lucky enough to play with some very talented musicians from the area along the way. \n\nNope\, we haven’t played the Kennedy Center yet\, or Carnegie Hall for that matter\, but we know how to get there – practice\, practice\, practice. Hope and self-delusion spring eternal. We feel exceptionally fortunate to have gotten to know so many of the musicians and music-lovers who make this such a vibrant area in which to live and play. \n 
URL:https://loneoakbrewingco.com/event/live-music-pull-up-a-chair/
LOCATION:Lone Oak Brewery\, 5000 Olney Laytonsville Rd\, Olney\, MD\, 20832\, United States
CATEGORIES:Live Music
ATTACH;FMTTYPE=image/jpeg:https://loneoakbrewingco.com/wp-content/uploads/2024/12/Pull-Up-A-Chair-scaled.jpg
END:VEVENT
END:VCALENDAR