BEGIN:VCALENDAR
VERSION:2.0
PRODID:-//Lone Oak Brewing Co. - ECPv6.15.20//NONSGML v1.0//EN
CALSCALE:GREGORIAN
METHOD:PUBLISH
X-ORIGINAL-URL:https://loneoakbrewingco.com
X-WR-CALDESC:Events for Lone Oak Brewing Co.
REFRESH-INTERVAL;VALUE=DURATION:PT1H
X-Robots-Tag:noindex
X-PUBLISHED-TTL:PT1H
BEGIN:VTIMEZONE
TZID:UTC
BEGIN:STANDARD
TZOFFSETFROM:+0000
TZOFFSETTO:+0000
TZNAME:UTC
DTSTART:20240101T000000
END:STANDARD
END:VTIMEZONE
BEGIN:VEVENT
DTSTART;TZID=UTC:20250329T160000
DTEND;TZID=UTC:20250329T190000
DTSTAMP:20260424T180658
CREATED:20241216T055753Z
LAST-MODIFIED:20241216T055753Z
UID:4811-1743264000-1743274800@loneoakbrewingco.com
SUMMARY:Live Music - The Walkaways
DESCRIPTION:The Walkaways are a Washington\, DC-based band making original music since 2006.  The band’s sound has been consistently described as “alt-country” (Washington Post\, Washington City Paper\, Washingtonian Magazine)\, although the songs draw even more broadly from Americana\, folk\, roots\, country\, alt-rock\, indie\, and classic rock. All music available on Spotify\, iTunes\, Amazon\, and CD Baby. Tour dates and all other info at http://thewalkaways.com/.
URL:https://loneoakbrewingco.com/event/live-music-the-walkaways/
LOCATION:Lone Oak Brewery\, 5000 Olney Laytonsville Rd\, Olney\, MD\, 20832\, United States
CATEGORIES:Live Music
ATTACH;FMTTYPE=image/jpeg:https://loneoakbrewingco.com/wp-content/uploads/2024/12/The-Walkaways.jpg
END:VEVENT
END:VCALENDAR