BEGIN:VCALENDAR
VERSION:2.0
PRODID:-//Lone Oak Brewing Co. - ECPv6.15.20//NONSGML v1.0//EN
CALSCALE:GREGORIAN
METHOD:PUBLISH
X-ORIGINAL-URL:https://loneoakbrewingco.com
X-WR-CALDESC:Events for Lone Oak Brewing Co.
REFRESH-INTERVAL;VALUE=DURATION:PT1H
X-Robots-Tag:noindex
X-PUBLISHED-TTL:PT1H
BEGIN:VTIMEZONE
TZID:UTC
BEGIN:STANDARD
TZOFFSETFROM:+0000
TZOFFSETTO:+0000
TZNAME:UTC
DTSTART:20240101T000000
END:STANDARD
END:VTIMEZONE
BEGIN:VEVENT
DTSTART;TZID=UTC:20250330T160000
DTEND;TZID=UTC:20250330T190000
DTSTAMP:20260424T180657
CREATED:20241216T055919Z
LAST-MODIFIED:20241216T055919Z
UID:4814-1743350400-1743361200@loneoakbrewingco.com
SUMMARY:Live Music - Cam & Jeff's Acoustic Adventures
DESCRIPTION:Hailing from Montgomery County\, Maryland\, Cam & Jeff’s Acoustic Adventures are a musical duo whose journey is defined by their shared love of music. With Cam on vocals and Jeff on guitar\, their selection of alternative rock from the 80’s\, 90’s to today creates a unique\, captivating vibe that resonates with audiences. Together\, they’ve created a space for fans to experience the joy of music stripped down to its purest form. Catch them at a show around the DMV near you!
URL:https://loneoakbrewingco.com/event/live-music-cam-jeffs-acoustic-adventures/
LOCATION:Lone Oak Brewery\, 5000 Olney Laytonsville Rd\, Olney\, MD\, 20832\, United States
CATEGORIES:Live Music
ATTACH;FMTTYPE=image/jpeg:https://loneoakbrewingco.com/wp-content/uploads/2024/12/CamJeff2025.jpeg
END:VEVENT
END:VCALENDAR