BEGIN:VCALENDAR
VERSION:2.0
PRODID:-//Lone Oak Brewing Co. - ECPv6.15.20//NONSGML v1.0//EN
CALSCALE:GREGORIAN
METHOD:PUBLISH
X-WR-CALNAME:Lone Oak Brewing Co.
X-ORIGINAL-URL:https://loneoakbrewingco.com
X-WR-CALDESC:Events for Lone Oak Brewing Co.
REFRESH-INTERVAL;VALUE=DURATION:PT1H
X-Robots-Tag:noindex
X-PUBLISHED-TTL:PT1H
BEGIN:VTIMEZONE
TZID:UTC
BEGIN:STANDARD
TZOFFSETFROM:+0000
TZOFFSETTO:+0000
TZNAME:UTC
DTSTART:20240101T000000
END:STANDARD
END:VTIMEZONE
BEGIN:VEVENT
DTSTART;TZID=UTC:20250406T140000
DTEND;TZID=UTC:20250406T170000
DTSTAMP:20260424T180730
CREATED:20250125T052747Z
LAST-MODIFIED:20250125T052834Z
UID:5060-1743948000-1743958800@loneoakbrewingco.com
SUMMARY:Live Music - Daisy Meadows
DESCRIPTION:Daisy K. Meadows is an artist on the rise from Westminster\, MD. As a singer-songwriter\, Daisy draws her inspiration from country and Americana female artists\, one of her inspirations being Martina McBride. With a catalog of over 100 original songs\, her music is an emotional journey that tells her story. She is passionate about bringing her music to the world and helping others find their voice.  Daisy LOVES taking requests at live shows and playing what the audience wants to hear. She has over 800 songs in her repertoire to pull from\, but her favorite song is… all of them! It’s a running joke that “every song is her favorite song.” 
URL:https://loneoakbrewingco.com/event/live-music-daisy-meadows-3/
LOCATION:Lone Oak Brewery\, 5000 Olney Laytonsville Rd\, Olney\, MD\, 20832\, United States
CATEGORIES:Live Music
ATTACH;FMTTYPE=image/png:https://loneoakbrewingco.com/wp-content/uploads/2024/12/DaisyMeadows.png
END:VEVENT
END:VCALENDAR