BEGIN:VCALENDAR
VERSION:2.0
PRODID:-//Lone Oak Brewing Co. - ECPv6.15.20//NONSGML v1.0//EN
CALSCALE:GREGORIAN
METHOD:PUBLISH
X-ORIGINAL-URL:https://loneoakbrewingco.com
X-WR-CALDESC:Events for Lone Oak Brewing Co.
REFRESH-INTERVAL;VALUE=DURATION:PT1H
X-Robots-Tag:noindex
X-PUBLISHED-TTL:PT1H
BEGIN:VTIMEZONE
TZID:UTC
BEGIN:STANDARD
TZOFFSETFROM:+0000
TZOFFSETTO:+0000
TZNAME:UTC
DTSTART:20240101T000000
END:STANDARD
END:VTIMEZONE
BEGIN:VEVENT
DTSTART;TZID=UTC:20250413T140000
DTEND;TZID=UTC:20250413T170000
DTSTAMP:20260424T200614
CREATED:20250125T053656Z
LAST-MODIFIED:20250125T053723Z
UID:5067-1744552800-1744563600@loneoakbrewingco.com
SUMMARY:Live Music - Joey Fitz
DESCRIPTION:Born and raised in PG County and an alum of UMD\, Joey Fitz got his first musical influences early from his parents\, who met performing in college ensembles and remain big fans of Folk\, Rock\, and Classical music. The stage at Lone Oak provides an exciting opportunity to perform for many of his friends and colleagues for the first time at a local Olney venue. With primary influences from Bruce Springsteen\, Tom Petty\, and Van Morrison\, Joey brings a wide variety of classic rock\, country and Irish pub acoustic music to Lone Oak Brewing Co. 
URL:https://loneoakbrewingco.com/event/live-music-joey-fitz/
LOCATION:Lone Oak Brewery\, 5000 Olney Laytonsville Rd\, Olney\, MD\, 20832\, United States
CATEGORIES:Live Music
ATTACH;FMTTYPE=image/jpeg:https://loneoakbrewingco.com/wp-content/uploads/2025/01/JoeyFitz.jpeg
END:VEVENT
END:VCALENDAR