BEGIN:VCALENDAR
VERSION:2.0
PRODID:-//Lone Oak Brewing Co. - ECPv6.15.20//NONSGML v1.0//EN
CALSCALE:GREGORIAN
METHOD:PUBLISH
X-ORIGINAL-URL:https://loneoakbrewingco.com
X-WR-CALDESC:Events for Lone Oak Brewing Co.
REFRESH-INTERVAL;VALUE=DURATION:PT1H
X-Robots-Tag:noindex
X-PUBLISHED-TTL:PT1H
BEGIN:VTIMEZONE
TZID:UTC
BEGIN:STANDARD
TZOFFSETFROM:+0000
TZOFFSETTO:+0000
TZNAME:UTC
DTSTART:20240101T000000
END:STANDARD
END:VTIMEZONE
BEGIN:VEVENT
DTSTART;TZID=UTC:20250419T120000
DTEND;TZID=UTC:20250419T140000
DTSTAMP:20260424T200617
CREATED:20250418T204921Z
LAST-MODIFIED:20250418T204921Z
UID:5414-1745064000-1745071200@loneoakbrewingco.com
SUMMARY:Lamborghini Car Show!
DESCRIPTION:We are partnering with @TheDriversVault and @LamborghiniClubDMV for a Lamborghini car show that is free to the public! Stop by\, grab a brew\, and check out some awesome cars!
URL:https://loneoakbrewingco.com/event/lamborghini-car-show/
LOCATION:Lone Oak Brewery\, 5000 Olney Laytonsville Rd\, Olney\, MD\, 20832\, United States
ATTACH;FMTTYPE=image/jpeg:https://loneoakbrewingco.com/wp-content/uploads/2025/04/IMG_2327.jpg
END:VEVENT
BEGIN:VEVENT
DTSTART;TZID=UTC:20250419T140000
DTEND;TZID=UTC:20250419T170000
DTSTAMP:20260424T200617
CREATED:20250125T053839Z
LAST-MODIFIED:20250125T053839Z
UID:5071-1745071200-1745082000@loneoakbrewingco.com
SUMMARY:Live Music - Six String Chuck
DESCRIPTION:Chuck has been performing as a solo acoustic singer/songwriter part time all around the DC\Baltimore area since the early 90s. Having recently retired from the 9-5 world he is now focusing all his energies on his music – entertaining audiences of all ages with his passion and approachable style. His familiar yet eclectic mix of covers (from John Hiatt and John Prime to Jimmy Buffet\, Hank Jr.\, Chris Stapleton and somehow around to Pink Floyd and even George Michael and Bruce…)  includes standards and sing-alongs\, as well as more obscure selections that draw listeners in and set him apart from other performers. Think hidden gems\, deep cuts and almost forgotten favorites mixed in with the best of today’s hits! Chuck re-branded himself as SixStringChuck in 2024 and has a fledgling social media presence (sixstringchuck.com; instagram.com/sixstringchuck; Instagram: @sixstringchuck) and is now focusing his energies on the thriving Winery and Brewery scene in the D.C.\, Maryland and Virginia region. 
URL:https://loneoakbrewingco.com/event/live-music-six-string-chuck-2/
LOCATION:Lone Oak Brewery\, 5000 Olney Laytonsville Rd\, Olney\, MD\, 20832\, United States
CATEGORIES:Live Music
ATTACH;FMTTYPE=image/jpeg:https://loneoakbrewingco.com/wp-content/uploads/2024/12/SixStringChuck.jpeg
END:VEVENT
END:VCALENDAR