BEGIN:VCALENDAR
VERSION:2.0
PRODID:-//Lone Oak Brewing Co. - ECPv6.15.20//NONSGML v1.0//EN
CALSCALE:GREGORIAN
METHOD:PUBLISH
X-WR-CALNAME:Lone Oak Brewing Co.
X-ORIGINAL-URL:https://loneoakbrewingco.com
X-WR-CALDESC:Events for Lone Oak Brewing Co.
REFRESH-INTERVAL;VALUE=DURATION:PT1H
X-Robots-Tag:noindex
X-PUBLISHED-TTL:PT1H
BEGIN:VTIMEZONE
TZID:UTC
BEGIN:STANDARD
TZOFFSETFROM:+0000
TZOFFSETTO:+0000
TZNAME:UTC
DTSTART:20240101T000000
END:STANDARD
END:VTIMEZONE
BEGIN:VEVENT
DTSTART;TZID=UTC:20250420T140000
DTEND;TZID=UTC:20250420T170000
DTSTAMP:20260424T200356
CREATED:20250126T013541Z
LAST-MODIFIED:20250126T013541Z
UID:5166-1745157600-1745168400@loneoakbrewingco.com
SUMMARY:Live Music - Lauren and Paul
DESCRIPTION:Paul’s day job is an airline pilot and about 15 or years ago\, he flew to London with another pilot who brought a guitar. The other pilot said he was sitting in with a pub band later that night on their layover. As soon as he got back from that trip\, he bought a guitar\, started taking lessons\, and the rest is history. For the last three years he has been a part of a local band called TrainWreck. Since then\, he’s gained the confidence to perform as a soloist and as a part of duos and trios. His musical roots are Classic Rock\, Country and Blues but playing with other musicians has expanded his interest into other genres.\n\nLauren is a Singer-Songwriter born and raised in Frederick\, MD\, and was 10 years old when her mom taught her how to play her first guitar chords. She wrote her first song at age 11 for a sixth-grade book report and grew up in concert and marching bands throughout grade school\, playing Alto Saxaphone\, Marimba\, Xylophone\, and other various percussion instruments. She was also active on worship teams as a singer from youth through adulthood. Her guitar playing grew during COVID when two friends asked her if she could show them a few things. After 2 years of weekly get togethers\, Lauren started performing at open mics in late 2022 and has been blessed to be a part of the gig scene ever since. She plays a variety of covers and classic hits and enjoys writing songs with musical influence inspired by folk\, americana\, and as of late blues and jazz.\n\nLauren and Paul have been a duo for over two years playing mostly Maryland and a bit in Virginia.  They also have their own solo routines and play in different bands.  They share a love of acoustic classic rock\, country\, folk\, pop\, and ‘90’s.  Something for everyone!
URL:https://loneoakbrewingco.com/event/live-music-lauren-and-paul-2/
LOCATION:Lone Oak Brewery\, 5000 Olney Laytonsville Rd\, Olney\, MD\, 20832\, United States
CATEGORIES:Live Music
ATTACH;FMTTYPE=image/jpeg:https://loneoakbrewingco.com/wp-content/uploads/2024/12/PaulandLauren.jpeg
END:VEVENT
END:VCALENDAR