BEGIN:VCALENDAR
VERSION:2.0
PRODID:-//Lone Oak Brewing Co. - ECPv6.15.20//NONSGML v1.0//EN
CALSCALE:GREGORIAN
METHOD:PUBLISH
X-ORIGINAL-URL:https://loneoakbrewingco.com
X-WR-CALDESC:Events for Lone Oak Brewing Co.
REFRESH-INTERVAL;VALUE=DURATION:PT1H
X-Robots-Tag:noindex
X-PUBLISHED-TTL:PT1H
BEGIN:VTIMEZONE
TZID:UTC
BEGIN:STANDARD
TZOFFSETFROM:+0000
TZOFFSETTO:+0000
TZNAME:UTC
DTSTART:20240101T000000
END:STANDARD
END:VTIMEZONE
BEGIN:VEVENT
DTSTART;TZID=UTC:20250423T180000
DTEND;TZID=UTC:20250423T200000
DTSTAMP:20260424T200616
CREATED:20250418T205248Z
LAST-MODIFIED:20250418T205248Z
UID:5418-1745431200-1745438400@loneoakbrewingco.com
SUMMARY:Line Dancing in the Pavilion
DESCRIPTION:Join instructor Arielle DeReggi once again as she teaches fun moves to some country favorites! You don’t have to be a pro or have a partner\, just swing on by and have a blast! Tickets are $10.
URL:https://loneoakbrewingco.com/event/line-dancing-in-the-pavilion/
LOCATION:Lone Oak Brewery\, 5000 Olney Laytonsville Rd\, Olney\, MD\, 20832\, United States
ATTACH;FMTTYPE=image/png:https://loneoakbrewingco.com/wp-content/uploads/2025/04/April-2025-LINE-DANCE-FLYER.png
END:VEVENT
END:VCALENDAR