BEGIN:VCALENDAR
VERSION:2.0
PRODID:-//Lone Oak Brewing Co. - ECPv6.15.20//NONSGML v1.0//EN
CALSCALE:GREGORIAN
METHOD:PUBLISH
X-WR-CALNAME:Lone Oak Brewing Co.
X-ORIGINAL-URL:https://loneoakbrewingco.com
X-WR-CALDESC:Events for Lone Oak Brewing Co.
REFRESH-INTERVAL;VALUE=DURATION:PT1H
X-Robots-Tag:noindex
X-PUBLISHED-TTL:PT1H
BEGIN:VTIMEZONE
TZID:UTC
BEGIN:STANDARD
TZOFFSETFROM:+0000
TZOFFSETTO:+0000
TZNAME:UTC
DTSTART:20240101T000000
END:STANDARD
END:VTIMEZONE
BEGIN:VTIMEZONE
TZID:America/New_York
BEGIN:DAYLIGHT
TZOFFSETFROM:-0500
TZOFFSETTO:-0400
TZNAME:EDT
DTSTART:20240310T070000
END:DAYLIGHT
BEGIN:STANDARD
TZOFFSETFROM:-0400
TZOFFSETTO:-0500
TZNAME:EST
DTSTART:20241103T060000
END:STANDARD
BEGIN:DAYLIGHT
TZOFFSETFROM:-0500
TZOFFSETTO:-0400
TZNAME:EDT
DTSTART:20250309T070000
END:DAYLIGHT
BEGIN:STANDARD
TZOFFSETFROM:-0400
TZOFFSETTO:-0500
TZNAME:EST
DTSTART:20251102T060000
END:STANDARD
BEGIN:DAYLIGHT
TZOFFSETFROM:-0500
TZOFFSETTO:-0400
TZNAME:EDT
DTSTART:20260308T070000
END:DAYLIGHT
BEGIN:STANDARD
TZOFFSETFROM:-0400
TZOFFSETTO:-0500
TZNAME:EST
DTSTART:20261101T060000
END:STANDARD
END:VTIMEZONE
BEGIN:VEVENT
DTSTART;TZID=UTC:20250424T180000
DTEND;TZID=UTC:20250424T200000
DTSTAMP:20260424T200359
CREATED:20240103T202213Z
LAST-MODIFIED:20250122T091318Z
UID:4034-1745517600-1745524800@loneoakbrewingco.com
SUMMARY:TRIVIA
DESCRIPTION:Grab your thinking cap and test your knowledge with Pour House Trivia! Get a group together for prizes and $6 beer! All ages and levels are welcome.
URL:https://loneoakbrewingco.com/event/trivia-3-2025-04-24/
LOCATION:Lone Oak Brewery\, 5000 Olney Laytonsville Rd\, Olney\, MD\, 20832\, United States
CATEGORIES:Trivia
ATTACH;FMTTYPE=image/jpeg:https://loneoakbrewingco.com/wp-content/uploads/2023/08/pourhousetrivia-1.jpg
END:VEVENT
BEGIN:VEVENT
DTSTART;TZID=America/New_York:20250424T190000
DTEND;TZID=America/New_York:20250424T220000
DTSTAMP:20260424T200359
CREATED:20250418T205650Z
LAST-MODIFIED:20250424T033506Z
UID:5421-1745521200-1745532000@loneoakbrewingco.com
SUMMARY:Comedy Show in the Speakeasy
DESCRIPTION:Join us for another comedy show with Bojo Entertainment! Comedians are Ivan Martin and Lucas Bohn! Doors open at 5:30pm. Don’t wait – buy tickets and pick your seats by clicking the link!
URL:https://loneoakbrewingco.com/event/comedy-show-in-the-speakeasy/
LOCATION:Lone Oak Brewery\, 5000 Olney Laytonsville Rd\, Olney\, MD\, 20832\, United States
CATEGORIES:Ticketed Event
ATTACH;FMTTYPE=image/png:https://loneoakbrewingco.com/wp-content/uploads/2025/04/APRIL-2025-COMEDY-SHOW-2-2.png
END:VEVENT
END:VCALENDAR