BEGIN:VCALENDAR
VERSION:2.0
PRODID:-//Lone Oak Brewing Co. - ECPv6.15.20//NONSGML v1.0//EN
CALSCALE:GREGORIAN
METHOD:PUBLISH
X-ORIGINAL-URL:https://loneoakbrewingco.com
X-WR-CALDESC:Events for Lone Oak Brewing Co.
REFRESH-INTERVAL;VALUE=DURATION:PT1H
X-Robots-Tag:noindex
X-PUBLISHED-TTL:PT1H
BEGIN:VTIMEZONE
TZID:UTC
BEGIN:STANDARD
TZOFFSETFROM:+0000
TZOFFSETTO:+0000
TZNAME:UTC
DTSTART:20240101T000000
END:STANDARD
END:VTIMEZONE
BEGIN:VEVENT
DTSTART;TZID=UTC:20250503T140000
DTEND;TZID=UTC:20250503T170000
DTSTAMP:20260424T200613
CREATED:20250125T063746Z
LAST-MODIFIED:20250125T063746Z
UID:5079-1746280800-1746291600@loneoakbrewingco.com
SUMMARY:Live Music - Dan Bregman
DESCRIPTION:40 years ago\, Dan Bregman taught himself to play guitar. He grew up in the Chicago area where he played various events and venues until moving to Sao Paulo\, Brazil with his family.  Since returning to the U.S. and settling in Howard County in 2012\, he’s loved re-engaging with the local music scene. His taste spans rock and roll to folk\, showing a versatile appreciation for music. The artists he covers\, such as Paul Simon\, Jason Isbell\, Jim Croce\, Harry Chapin\, The Band and John Prine\, are known for their storytelling and emotional depth\, emphasizing his affinity for lyrical content and performance that resonates with audiences. \n 
URL:https://loneoakbrewingco.com/event/live-music-dan-bregman-2/
LOCATION:Lone Oak Brewery\, 5000 Olney Laytonsville Rd\, Olney\, MD\, 20832\, United States
CATEGORIES:Live Music
ATTACH;FMTTYPE=image/jpeg:https://loneoakbrewingco.com/wp-content/uploads/2024/12/DanBregman.jpeg
END:VEVENT
END:VCALENDAR