BEGIN:VCALENDAR
VERSION:2.0
PRODID:-//Lone Oak Brewing Co. - ECPv6.15.20//NONSGML v1.0//EN
CALSCALE:GREGORIAN
METHOD:PUBLISH
X-WR-CALNAME:Lone Oak Brewing Co.
X-ORIGINAL-URL:https://loneoakbrewingco.com
X-WR-CALDESC:Events for Lone Oak Brewing Co.
REFRESH-INTERVAL;VALUE=DURATION:PT1H
X-Robots-Tag:noindex
X-PUBLISHED-TTL:PT1H
BEGIN:VTIMEZONE
TZID:America/New_York
BEGIN:DAYLIGHT
TZOFFSETFROM:-0500
TZOFFSETTO:-0400
TZNAME:EDT
DTSTART:20240310T070000
END:DAYLIGHT
BEGIN:STANDARD
TZOFFSETFROM:-0400
TZOFFSETTO:-0500
TZNAME:EST
DTSTART:20241103T060000
END:STANDARD
BEGIN:DAYLIGHT
TZOFFSETFROM:-0500
TZOFFSETTO:-0400
TZNAME:EDT
DTSTART:20250309T070000
END:DAYLIGHT
BEGIN:STANDARD
TZOFFSETFROM:-0400
TZOFFSETTO:-0500
TZNAME:EST
DTSTART:20251102T060000
END:STANDARD
BEGIN:DAYLIGHT
TZOFFSETFROM:-0500
TZOFFSETTO:-0400
TZNAME:EDT
DTSTART:20260308T070000
END:DAYLIGHT
BEGIN:STANDARD
TZOFFSETFROM:-0400
TZOFFSETTO:-0500
TZNAME:EST
DTSTART:20261101T060000
END:STANDARD
END:VTIMEZONE
BEGIN:VTIMEZONE
TZID:UTC
BEGIN:STANDARD
TZOFFSETFROM:+0000
TZOFFSETTO:+0000
TZNAME:UTC
DTSTART:20240101T000000
END:STANDARD
END:VTIMEZONE
BEGIN:VEVENT
DTSTART;TZID=America/New_York:20250524T120000
DTEND;TZID=America/New_York:20250524T200000
DTSTAMP:20260424T234052
CREATED:20250508T225949Z
LAST-MODIFIED:20250508T225949Z
UID:5460-1748088000-1748116800@loneoakbrewingco.com
SUMMARY:Food Truck - Square Taco
DESCRIPTION:
URL:https://loneoakbrewingco.com/event/food-truck-square-taco-2/
LOCATION:Lone Oak Brewery\, 5000 Olney Laytonsville Rd\, Olney\, MD\, 20832\, United States
CATEGORIES:Food Truck
ATTACH;FMTTYPE=image/webp:https://loneoakbrewingco.com/wp-content/uploads/2024/10/SQUARE-TACO.webp
END:VEVENT
BEGIN:VEVENT
DTSTART;TZID=UTC:20250524T140000
DTEND;TZID=UTC:20250524T170000
DTSTAMP:20260424T234052
CREATED:20250126T003923Z
LAST-MODIFIED:20250126T003923Z
UID:5150-1748095200-1748106000@loneoakbrewingco.com
SUMMARY:Live Music - Susanna Laird
DESCRIPTION:Susanna Laird is a singer-songwriter\, guitarist and pianist from Frederick Maryland.  She has been performing most of her life as a singer\, pianist and choir member in a variety of settings while also raising her kids\, homeschooling and teaching music lessons. Recently she has been focusing on songwriting and performing as a solo singer/guitarist. Her music is deeply influenced by gospel musicians like Andre Crouch and Mavis Staples as well as folk music like the Indigo Girls and Tracy Chapman and blues music like Bonnie Raitt. Her favorite songs to sing are “Midnight Train to Georgia”\, “Country Roads” and “Closer to Fine.”  Performing throughout the Mid-Atlantic region has given Susanna a deep appreciation for the cultural connection people here have to their communities as well as to the forests\, creeks\, mountains\, bay and ocean.  She loves to honor the local culture by playing music that resonates with people who call this beautiful area home.
URL:https://loneoakbrewingco.com/event/live-music-susanna-laird-2/
LOCATION:Lone Oak Brewery\, 5000 Olney Laytonsville Rd\, Olney\, MD\, 20832\, United States
CATEGORIES:Live Music
ATTACH;FMTTYPE=image/jpeg:https://loneoakbrewingco.com/wp-content/uploads/2024/12/susanna-laird-square-2-scaled.jpg
END:VEVENT
END:VCALENDAR