BEGIN:VCALENDAR
VERSION:2.0
PRODID:-//Lone Oak Brewing Co. - ECPv6.15.20//NONSGML v1.0//EN
CALSCALE:GREGORIAN
METHOD:PUBLISH
X-ORIGINAL-URL:https://loneoakbrewingco.com
X-WR-CALDESC:Events for Lone Oak Brewing Co.
REFRESH-INTERVAL;VALUE=DURATION:PT1H
X-Robots-Tag:noindex
X-PUBLISHED-TTL:PT1H
BEGIN:VTIMEZONE
TZID:America/New_York
BEGIN:DAYLIGHT
TZOFFSETFROM:-0500
TZOFFSETTO:-0400
TZNAME:EDT
DTSTART:20240310T070000
END:DAYLIGHT
BEGIN:STANDARD
TZOFFSETFROM:-0400
TZOFFSETTO:-0500
TZNAME:EST
DTSTART:20241103T060000
END:STANDARD
BEGIN:DAYLIGHT
TZOFFSETFROM:-0500
TZOFFSETTO:-0400
TZNAME:EDT
DTSTART:20250309T070000
END:DAYLIGHT
BEGIN:STANDARD
TZOFFSETFROM:-0400
TZOFFSETTO:-0500
TZNAME:EST
DTSTART:20251102T060000
END:STANDARD
BEGIN:DAYLIGHT
TZOFFSETFROM:-0500
TZOFFSETTO:-0400
TZNAME:EDT
DTSTART:20260308T070000
END:DAYLIGHT
BEGIN:STANDARD
TZOFFSETFROM:-0400
TZOFFSETTO:-0500
TZNAME:EST
DTSTART:20261101T060000
END:STANDARD
END:VTIMEZONE
BEGIN:VTIMEZONE
TZID:UTC
BEGIN:STANDARD
TZOFFSETFROM:+0000
TZOFFSETTO:+0000
TZNAME:UTC
DTSTART:20240101T000000
END:STANDARD
END:VTIMEZONE
BEGIN:VEVENT
DTSTART;TZID=America/New_York:20250525T120000
DTEND;TZID=America/New_York:20250525T190000
DTSTAMP:20260424T234124
CREATED:20250508T231338Z
LAST-MODIFIED:20250508T231338Z
UID:5462-1748174400-1748199600@loneoakbrewingco.com
SUMMARY:Food Truck - BBQ and Tech
DESCRIPTION:
URL:https://loneoakbrewingco.com/event/food-truck-bbq-and-tech/
LOCATION:Lone Oak Brewery\, 5000 Olney Laytonsville Rd\, Olney\, MD\, 20832\, United States
CATEGORIES:Food Truck
ATTACH;FMTTYPE=image/jpeg:https://loneoakbrewingco.com/wp-content/uploads/2025/05/download-2.jpeg
END:VEVENT
BEGIN:VEVENT
DTSTART;TZID=UTC:20250525T140000
DTEND;TZID=UTC:20250525T170000
DTSTAMP:20260424T234124
CREATED:20250125T211451Z
LAST-MODIFIED:20250125T211451Z
UID:5142-1748181600-1748192400@loneoakbrewingco.com
SUMMARY:Live Music - One Step Down
DESCRIPTION:We always say that One Step Down is the one silver lining from COVID….\nJoe grew up in NJ\, and became fascinated with the electric guitar after hearing the Venture’s Walk\nDon’t Run and Pipeline. His first band\, The 007s\, played songs by artists such as The Monkees and\nThe Searchers. The music from 1968-1972 (Led Zeppelin\, Grand Funk\, Black Sabbath) helped shape\nJoe’s style. After moving to Bel Air\, he played in several local bands – I95\, Circle of Fire\, and Tainted\nSouls.\nKaren grew up in Elkridge\, MD. Although she had no vocal training\, she enjoyed singing along to\nStevie Nicks\, Wynonna Judd and Tanya Tucker. She started her musical career when her dad bought a\nset of drums and decided to start a band. Over the years\, Karen played in several local bands–\nCrossfire\, Flashpoint\, and finally Wasted Gravity\, always with her dad on the drums.\nIn 2013\, Joe answered an ad for a lead guitarist and auditioned for Wasted Gravity\, and that’s when\nKaren and Joe started playing music together. When COVID hit\, the music scene shut down. The\nvision changed and Joe swapped out his electric guitar for an acoustic guitar. One Step Down played\nits first gig in October 2020. We love playing all genres of music\, but songs by Fleetwood Mac/Stevie\nNicks are some of the favorites!
URL:https://loneoakbrewingco.com/event/live-music-one-step-down-6/
LOCATION:Lone Oak Brewery\, 5000 Olney Laytonsville Rd\, Olney\, MD\, 20832\, United States
CATEGORIES:Live Music
ATTACH;FMTTYPE=image/jpeg:https://loneoakbrewingco.com/wp-content/uploads/2025/01/OneStepDown.jpeg
END:VEVENT
END:VCALENDAR