BEGIN:VCALENDAR
VERSION:2.0
PRODID:-//Lone Oak Brewing Co. - ECPv6.15.20//NONSGML v1.0//EN
CALSCALE:GREGORIAN
METHOD:PUBLISH
X-WR-CALNAME:Lone Oak Brewing Co.
X-ORIGINAL-URL:https://loneoakbrewingco.com
X-WR-CALDESC:Events for Lone Oak Brewing Co.
REFRESH-INTERVAL;VALUE=DURATION:PT1H
X-Robots-Tag:noindex
X-PUBLISHED-TTL:PT1H
BEGIN:VTIMEZONE
TZID:America/New_York
BEGIN:DAYLIGHT
TZOFFSETFROM:-0500
TZOFFSETTO:-0400
TZNAME:EDT
DTSTART:20240310T070000
END:DAYLIGHT
BEGIN:STANDARD
TZOFFSETFROM:-0400
TZOFFSETTO:-0500
TZNAME:EST
DTSTART:20241103T060000
END:STANDARD
BEGIN:DAYLIGHT
TZOFFSETFROM:-0500
TZOFFSETTO:-0400
TZNAME:EDT
DTSTART:20250309T070000
END:DAYLIGHT
BEGIN:STANDARD
TZOFFSETFROM:-0400
TZOFFSETTO:-0500
TZNAME:EST
DTSTART:20251102T060000
END:STANDARD
BEGIN:DAYLIGHT
TZOFFSETFROM:-0500
TZOFFSETTO:-0400
TZNAME:EDT
DTSTART:20260308T070000
END:DAYLIGHT
BEGIN:STANDARD
TZOFFSETFROM:-0400
TZOFFSETTO:-0500
TZNAME:EST
DTSTART:20261101T060000
END:STANDARD
END:VTIMEZONE
BEGIN:VTIMEZONE
TZID:UTC
BEGIN:STANDARD
TZOFFSETFROM:+0000
TZOFFSETTO:+0000
TZNAME:UTC
DTSTART:20240101T000000
END:STANDARD
END:VTIMEZONE
BEGIN:VEVENT
DTSTART;TZID=America/New_York:20250608T120000
DTEND;TZID=America/New_York:20250608T190000
DTSTAMP:20260424T234615
CREATED:20250601T200835Z
LAST-MODIFIED:20250601T200835Z
UID:5529-1749384000-1749409200@loneoakbrewingco.com
SUMMARY:Food Truck - Gauchito Steaks
DESCRIPTION:
URL:https://loneoakbrewingco.com/event/food-truck-gauchito-steaks/
LOCATION:Lone Oak Brewery\, 5000 Olney Laytonsville Rd\, Olney\, MD\, 20832\, United States
CATEGORIES:Food Truck
ATTACH;FMTTYPE=image/jpeg:https://loneoakbrewingco.com/wp-content/uploads/2025/06/gauchito.jpeg
END:VEVENT
BEGIN:VEVENT
DTSTART;TZID=UTC:20250608T140000
DTEND;TZID=UTC:20250608T170000
DTSTAMP:20260424T234615
CREATED:20250125T200545Z
LAST-MODIFIED:20250125T200553Z
UID:5098-1749391200-1749402000@loneoakbrewingco.com
SUMMARY:Live Music - Take Two
DESCRIPTION:Vince and Chris grew up in Silver Spring and played in a Classic Rock band in our college years\, including Top 40 plus the Allman Brothers\, Yes and Emerson Lake and Palmer among others. We later played in a Soul Band which covered songs by Chicago\, Tower of Power and Blood Sweat and Tears.\nWe’ve played together as Take Two for twelve years and really enjoy the musical challenges of performing as a duo. We enjoy playing in familiar and new venues as part of this diverse local music community and getting to know the people we play for.
URL:https://loneoakbrewingco.com/event/live-music-take-two-3/
LOCATION:Lone Oak Brewery\, 5000 Olney Laytonsville Rd\, Olney\, MD\, 20832\, United States
CATEGORIES:Live Music
ATTACH;FMTTYPE=image/jpeg:https://loneoakbrewingco.com/wp-content/uploads/2024/12/TakeTwo-scaled.jpg
END:VEVENT
END:VCALENDAR