BEGIN:VCALENDAR
VERSION:2.0
PRODID:-//Lone Oak Brewing Co. - ECPv6.15.20//NONSGML v1.0//EN
CALSCALE:GREGORIAN
METHOD:PUBLISH
X-WR-CALNAME:Lone Oak Brewing Co.
X-ORIGINAL-URL:https://loneoakbrewingco.com
X-WR-CALDESC:Events for Lone Oak Brewing Co.
REFRESH-INTERVAL;VALUE=DURATION:PT1H
X-Robots-Tag:noindex
X-PUBLISHED-TTL:PT1H
BEGIN:VTIMEZONE
TZID:America/New_York
BEGIN:DAYLIGHT
TZOFFSETFROM:-0500
TZOFFSETTO:-0400
TZNAME:EDT
DTSTART:20240310T070000
END:DAYLIGHT
BEGIN:STANDARD
TZOFFSETFROM:-0400
TZOFFSETTO:-0500
TZNAME:EST
DTSTART:20241103T060000
END:STANDARD
BEGIN:DAYLIGHT
TZOFFSETFROM:-0500
TZOFFSETTO:-0400
TZNAME:EDT
DTSTART:20250309T070000
END:DAYLIGHT
BEGIN:STANDARD
TZOFFSETFROM:-0400
TZOFFSETTO:-0500
TZNAME:EST
DTSTART:20251102T060000
END:STANDARD
BEGIN:DAYLIGHT
TZOFFSETFROM:-0500
TZOFFSETTO:-0400
TZNAME:EDT
DTSTART:20260308T070000
END:DAYLIGHT
BEGIN:STANDARD
TZOFFSETFROM:-0400
TZOFFSETTO:-0500
TZNAME:EST
DTSTART:20261101T060000
END:STANDARD
END:VTIMEZONE
BEGIN:VTIMEZONE
TZID:UTC
BEGIN:STANDARD
TZOFFSETFROM:+0000
TZOFFSETTO:+0000
TZNAME:UTC
DTSTART:20240101T000000
END:STANDARD
END:VTIMEZONE
BEGIN:VEVENT
DTSTART;TZID=America/New_York:20250706T110000
DTEND;TZID=America/New_York:20250706T130000
DTSTAMP:20260424T234613
CREATED:20250615T232302Z
LAST-MODIFIED:20250615T232302Z
UID:5604-1751799600-1751806800@loneoakbrewingco.com
SUMMARY:Tiny Tea at Fallen Oak Distilling
DESCRIPTION:
URL:https://loneoakbrewingco.com/event/tiny-tea-at-fallen-oak-distilling/
LOCATION:Lone Oak Brewery\, 5000 Olney Laytonsville Rd\, Olney\, MD\, 20832\, United States
ATTACH;FMTTYPE=image/png:https://loneoakbrewingco.com/wp-content/uploads/2025/06/JULY-2025-KIDS-TEA-TIME-scaled.png
END:VEVENT
BEGIN:VEVENT
DTSTART;TZID=America/New_York:20250706T120000
DTEND;TZID=America/New_York:20250706T190000
DTSTAMP:20260424T234613
CREATED:20250622T193037Z
LAST-MODIFIED:20250622T193037Z
UID:5618-1751803200-1751828400@loneoakbrewingco.com
SUMMARY:Food Truck - Trippy Tacos
DESCRIPTION:
URL:https://loneoakbrewingco.com/event/food-truck-trippy-tacos-13/
LOCATION:Lone Oak Brewery\, 5000 Olney Laytonsville Rd\, Olney\, MD\, 20832\, United States
CATEGORIES:Food Truck
ATTACH;FMTTYPE=image/png:https://loneoakbrewingco.com/wp-content/uploads/2022/05/Screen-Shot-2022-05-28-at-5.02.34-PM.png
END:VEVENT
BEGIN:VEVENT
DTSTART;TZID=UTC:20250706T140000
DTEND;TZID=UTC:20250706T170000
DTSTAMP:20260424T234613
CREATED:20250125T202531Z
LAST-MODIFIED:20250125T202531Z
UID:5112-1751810400-1751821200@loneoakbrewingco.com
SUMMARY:Live Music - Dan Bregman
DESCRIPTION:40 years ago\, Dan Bregman taught himself to play guitar. He grew up in the Chicago area where he played various events and venues until moving to Sao Paulo\, Brazil with his family.  Since returning to the U.S. and settling in Howard County in 2012\, he’s loved re-engaging with the local music scene. His taste spans rock and roll to folk\, showing a versatile appreciation for music. The artists he covers\, such as Paul Simon\, Jason Isbell\, Jim Croce\, Harry Chapin\, The Band and John Prine\, are known for their storytelling and emotional depth\, emphasizing his affinity for lyrical content and performance that resonates with audiences.
URL:https://loneoakbrewingco.com/event/live-music-dan-bregman-3/
LOCATION:Lone Oak Brewery\, 5000 Olney Laytonsville Rd\, Olney\, MD\, 20832\, United States
CATEGORIES:Live Music
ATTACH;FMTTYPE=image/jpeg:https://loneoakbrewingco.com/wp-content/uploads/2024/12/DanBregman.jpeg
END:VEVENT
END:VCALENDAR