BEGIN:VCALENDAR
VERSION:2.0
PRODID:-//Lone Oak Brewing Co. - ECPv6.15.20//NONSGML v1.0//EN
CALSCALE:GREGORIAN
METHOD:PUBLISH
X-ORIGINAL-URL:https://loneoakbrewingco.com
X-WR-CALDESC:Events for Lone Oak Brewing Co.
REFRESH-INTERVAL;VALUE=DURATION:PT1H
X-Robots-Tag:noindex
X-PUBLISHED-TTL:PT1H
BEGIN:VTIMEZONE
TZID:America/New_York
BEGIN:DAYLIGHT
TZOFFSETFROM:-0500
TZOFFSETTO:-0400
TZNAME:EDT
DTSTART:20250309T070000
END:DAYLIGHT
BEGIN:STANDARD
TZOFFSETFROM:-0400
TZOFFSETTO:-0500
TZNAME:EST
DTSTART:20251102T060000
END:STANDARD
BEGIN:DAYLIGHT
TZOFFSETFROM:-0500
TZOFFSETTO:-0400
TZNAME:EDT
DTSTART:20260308T070000
END:DAYLIGHT
BEGIN:STANDARD
TZOFFSETFROM:-0400
TZOFFSETTO:-0500
TZNAME:EST
DTSTART:20261101T060000
END:STANDARD
BEGIN:DAYLIGHT
TZOFFSETFROM:-0500
TZOFFSETTO:-0400
TZNAME:EDT
DTSTART:20270314T070000
END:DAYLIGHT
BEGIN:STANDARD
TZOFFSETFROM:-0400
TZOFFSETTO:-0500
TZNAME:EST
DTSTART:20271107T060000
END:STANDARD
END:VTIMEZONE
BEGIN:VEVENT
DTSTART;VALUE=DATE:20260409
DTEND;VALUE=DATE:20260410
DTSTAMP:20260421T210343
CREATED:20260408T194151Z
LAST-MODIFIED:20260408T194151Z
UID:6285-1775692800-1775779199@loneoakbrewingco.com
SUMMARY:Proof 86 Thursday
DESCRIPTION:Proof 86 Members – Exciting News!We’re introducing Proof 86 Thursdays! 🎉 \nStop by Fallen Oak Distilling any Thursday and enjoy 20% off ALL drinks\, merchandise\, and bottles. \nDon’t miss out – make your Thursday the best day of the week! 🥃
URL:https://loneoakbrewingco.com/event/proof-86-thursday/
LOCATION:Fallen Oak Distilling\, 5000 Olney Laytonsville Rd\, Olney\, MD\, 20832\, United States
ATTACH;FMTTYPE=image/jpeg:https://loneoakbrewingco.com/wp-content/uploads/2023/06/Fallen-Oak-Logo.jpg
END:VEVENT
BEGIN:VEVENT
DTSTART;TZID=America/New_York:20260409T180000
DTEND;TZID=America/New_York:20260409T200000
DTSTAMP:20260421T210343
CREATED:20260211T181144Z
LAST-MODIFIED:20260211T181331Z
UID:6058-1775757600-1775764800@loneoakbrewingco.com
SUMMARY:Trivia Thursday
DESCRIPTION:
URL:https://loneoakbrewingco.com/event/trivia-thursday-19/
LOCATION:Lone Oak Brewery\, 5000 Olney Laytonsville Rd\, Olney\, MD\, 20832\, United States
CATEGORIES:Trivia
ATTACH;FMTTYPE=image/jpeg:https://loneoakbrewingco.com/wp-content/uploads/2023/08/pourhousetrivia-1.jpg
END:VEVENT
BEGIN:VEVENT
DTSTART;TZID=America/New_York:20260409T180000
DTEND;TZID=America/New_York:20260409T200000
DTSTAMP:20260421T210343
CREATED:20260211T181301Z
LAST-MODIFIED:20260211T181301Z
UID:6062-1775757600-1775764800@loneoakbrewingco.com
SUMMARY:Happy Hour
DESCRIPTION:
URL:https://loneoakbrewingco.com/event/happy-hour-14/
LOCATION:Lone Oak Brewery\, 5000 Olney Laytonsville Rd\, Olney\, MD\, 20832\, United States
CATEGORIES:Happy Hour
ATTACH;FMTTYPE=image/png:https://loneoakbrewingco.com/wp-content/uploads/2025/11/Thursday.png
END:VEVENT
END:VCALENDAR