BEGIN:VCALENDAR
VERSION:2.0
PRODID:-//Lone Oak Brewing Co. - ECPv6.15.20//NONSGML v1.0//EN
CALSCALE:GREGORIAN
METHOD:PUBLISH
X-WR-CALNAME:Lone Oak Brewing Co.
X-ORIGINAL-URL:https://loneoakbrewingco.com
X-WR-CALDESC:Events for Lone Oak Brewing Co.
REFRESH-INTERVAL;VALUE=DURATION:PT1H
X-Robots-Tag:noindex
X-PUBLISHED-TTL:PT1H
BEGIN:VTIMEZONE
TZID:America/New_York
BEGIN:DAYLIGHT
TZOFFSETFROM:-0500
TZOFFSETTO:-0400
TZNAME:EDT
DTSTART:20250309T070000
END:DAYLIGHT
BEGIN:STANDARD
TZOFFSETFROM:-0400
TZOFFSETTO:-0500
TZNAME:EST
DTSTART:20251102T060000
END:STANDARD
BEGIN:DAYLIGHT
TZOFFSETFROM:-0500
TZOFFSETTO:-0400
TZNAME:EDT
DTSTART:20260308T070000
END:DAYLIGHT
BEGIN:STANDARD
TZOFFSETFROM:-0400
TZOFFSETTO:-0500
TZNAME:EST
DTSTART:20261101T060000
END:STANDARD
BEGIN:DAYLIGHT
TZOFFSETFROM:-0500
TZOFFSETTO:-0400
TZNAME:EDT
DTSTART:20270314T070000
END:DAYLIGHT
BEGIN:STANDARD
TZOFFSETFROM:-0400
TZOFFSETTO:-0500
TZNAME:EST
DTSTART:20271107T060000
END:STANDARD
END:VTIMEZONE
BEGIN:VEVENT
DTSTART;VALUE=DATE:20260523
DTEND;VALUE=DATE:20260524
DTSTAMP:20260421T222732
CREATED:20260325T163215Z
LAST-MODIFIED:20260325T163215Z
UID:6223-1779494400-1779580799@loneoakbrewingco.com
SUMMARY:Food Truck - Cousin's Maine Lobster
DESCRIPTION:
URL:https://loneoakbrewingco.com/event/food-truck-cousins-maine-lobster-3/
LOCATION:Lone Oak Brewery\, 5000 Olney Laytonsville Rd\, Olney\, MD\, 20832\, United States
ATTACH;FMTTYPE=image/webp:https://loneoakbrewingco.com/wp-content/uploads/2026/02/Cousins-Maine-Lobster.webp
END:VEVENT
BEGIN:VEVENT
DTSTART;TZID=America/New_York:20260523T140000
DTEND;TZID=America/New_York:20260523T170000
DTSTAMP:20260421T222732
CREATED:20260325T163820Z
LAST-MODIFIED:20260325T163820Z
UID:6232-1779544800-1779555600@loneoakbrewingco.com
SUMMARY:Music - Susanna Laird
DESCRIPTION:
URL:https://loneoakbrewingco.com/event/music-susanna-laird-3/
LOCATION:Lone Oak Brewery\, 5000 Olney Laytonsville Rd\, Olney\, MD\, 20832\, United States
ATTACH;FMTTYPE=image/jpeg:https://loneoakbrewingco.com/wp-content/uploads/2024/12/susanna-laird-square-2-scaled.jpg
END:VEVENT
END:VCALENDAR