BEGIN:VCALENDAR
VERSION:2.0
PRODID:-//Lone Oak Brewing Co. - ECPv6.15.20//NONSGML v1.0//EN
CALSCALE:GREGORIAN
METHOD:PUBLISH
X-ORIGINAL-URL:https://loneoakbrewingco.com
X-WR-CALDESC:Events for Lone Oak Brewing Co.
REFRESH-INTERVAL;VALUE=DURATION:PT1H
X-Robots-Tag:noindex
X-PUBLISHED-TTL:PT1H
BEGIN:VTIMEZONE
TZID:America/New_York
BEGIN:DAYLIGHT
TZOFFSETFROM:-0500
TZOFFSETTO:-0400
TZNAME:EDT
DTSTART:20250309T070000
END:DAYLIGHT
BEGIN:STANDARD
TZOFFSETFROM:-0400
TZOFFSETTO:-0500
TZNAME:EST
DTSTART:20251102T060000
END:STANDARD
BEGIN:DAYLIGHT
TZOFFSETFROM:-0500
TZOFFSETTO:-0400
TZNAME:EDT
DTSTART:20260308T070000
END:DAYLIGHT
BEGIN:STANDARD
TZOFFSETFROM:-0400
TZOFFSETTO:-0500
TZNAME:EST
DTSTART:20261101T060000
END:STANDARD
BEGIN:DAYLIGHT
TZOFFSETFROM:-0500
TZOFFSETTO:-0400
TZNAME:EDT
DTSTART:20270314T070000
END:DAYLIGHT
BEGIN:STANDARD
TZOFFSETFROM:-0400
TZOFFSETTO:-0500
TZNAME:EST
DTSTART:20271107T060000
END:STANDARD
END:VTIMEZONE
BEGIN:VEVENT
DTSTART;VALUE=DATE:20260606
DTEND;VALUE=DATE:20260607
DTSTAMP:20260422T000831
CREATED:20260401T160127Z
LAST-MODIFIED:20260401T160127Z
UID:6250-1780704000-1780790399@loneoakbrewingco.com
SUMMARY:Food Truck - Square Taco
DESCRIPTION:
URL:https://loneoakbrewingco.com/event/food-truck-square-taco-11/
LOCATION:Lone Oak Brewery\, 5000 Olney Laytonsville Rd\, Olney\, MD\, 20832\, United States
ATTACH;FMTTYPE=image/webp:https://loneoakbrewingco.com/wp-content/uploads/2024/10/SQUARE-TACO.webp
END:VEVENT
BEGIN:VEVENT
DTSTART;TZID=America/New_York:20260606T140000
DTEND;TZID=America/New_York:20260606T170000
DTSTAMP:20260422T000831
CREATED:20260401T160232Z
LAST-MODIFIED:20260401T160232Z
UID:6252-1780754400-1780765200@loneoakbrewingco.com
SUMMARY:Music - One Step Down
DESCRIPTION:
URL:https://loneoakbrewingco.com/event/music-one-step-down-2/
LOCATION:Lone Oak Brewery\, 5000 Olney Laytonsville Rd\, Olney\, MD\, 20832\, United States
ATTACH;FMTTYPE=image/jpeg:https://loneoakbrewingco.com/wp-content/uploads/2025/01/OneStepDown.jpeg
END:VEVENT
END:VCALENDAR